BEGIN:VCALENDAR
VERSION:2.0
PRODID:-//Suzuki Music Schools - ECPv6.15.20//NONSGML v1.0//EN
CALSCALE:GREGORIAN
METHOD:PUBLISH
X-WR-CALNAME:Suzuki Music Schools
X-ORIGINAL-URL:https://suzukischools.org
X-WR-CALDESC:Events for Suzuki Music Schools
REFRESH-INTERVAL;VALUE=DURATION:PT1H
X-Robots-Tag:noindex
X-PUBLISHED-TTL:PT1H
BEGIN:VTIMEZONE
TZID:America/New_York
BEGIN:DAYLIGHT
TZOFFSETFROM:-0500
TZOFFSETTO:-0400
TZNAME:EDT
DTSTART:20250309T070000
END:DAYLIGHT
BEGIN:STANDARD
TZOFFSETFROM:-0400
TZOFFSETTO:-0500
TZNAME:EST
DTSTART:20251102T060000
END:STANDARD
BEGIN:DAYLIGHT
TZOFFSETFROM:-0500
TZOFFSETTO:-0400
TZNAME:EDT
DTSTART:20260308T070000
END:DAYLIGHT
BEGIN:STANDARD
TZOFFSETFROM:-0400
TZOFFSETTO:-0500
TZNAME:EST
DTSTART:20261101T060000
END:STANDARD
BEGIN:DAYLIGHT
TZOFFSETFROM:-0500
TZOFFSETTO:-0400
TZNAME:EDT
DTSTART:20270314T070000
END:DAYLIGHT
BEGIN:STANDARD
TZOFFSETFROM:-0400
TZOFFSETTO:-0500
TZNAME:EST
DTSTART:20271107T060000
END:STANDARD
END:VTIMEZONE
BEGIN:VEVENT
DTSTART;TZID=America/New_York:20260308T150000
DTEND;TZID=America/New_York:20260308T160000
DTSTAMP:20260420T060004
CREATED:20251213T151720Z
LAST-MODIFIED:20251213T151720Z
UID:18793-1772982000-1772985600@suzukischools.org
SUMMARY:The Children's Pillow Concerts - Melvin Chen
DESCRIPTION:The Connecticut Guitar Festival				\n				\n					\n		\n					\n		\n				\n						\n					\n			\n						\n						\n					\n			\n						\n				\n									Enjoy three days of international artists teaching and performing. Please visit www.connecticutguitarfestival.com for full details
URL:https://suzukischools.org/events/the-childrens-pillow-concerts-melvin-chen-sp26/
LOCATION:Suzuki Music Schools Westport\, 246 Post Rd. East\, Westport\, 06880\, United States
CATEGORIES:Community,Da Capo Visiting Artist Series,Event,Faculty Performances,Pillow Concert Series,School Calendar
ATTACH;FMTTYPE=image/jpeg:https://suzukischools.org/wp-content/uploads/2025/11/Melvin-Chen-pno.jpeg
END:VEVENT
BEGIN:VEVENT
DTSTART;TZID=America/New_York:20260313T170000
DTEND;TZID=America/New_York:20260315T170000
DTSTAMP:20260420T060004
CREATED:20260127T220943Z
LAST-MODIFIED:20260127T221144Z
UID:19633-1773421200-1773594000@suzukischools.org
SUMMARY:The Connecticut Guitar Festival
DESCRIPTION:The Connecticut Guitar Festival				\n				\n					\n		\n					\n		\n				\n						\n					\n			\n						\n						\n					\n			\n						\n				\n									Enjoy three days of international artists teaching and performing. Please visit www.connecticutguitarfestival.com for full details
URL:https://suzukischools.org/events/the-connecticut-guitar-festival-2026/
CATEGORIES:Community,Da Capo Visiting Artist Series,Event,Faculty Performances,School Calendar
ATTACH;FMTTYPE=image/webp:https://suzukischools.org/wp-content/uploads/2023/02/CGF.webp
END:VEVENT
END:VCALENDAR