BEGIN:VCALENDAR
VERSION:2.0
PRODID:-//Suzuki Music Schools - ECPv6.15.20//NONSGML v1.0//EN
CALSCALE:GREGORIAN
METHOD:PUBLISH
X-WR-CALNAME:Suzuki Music Schools
X-ORIGINAL-URL:http://suzukischools.org
X-WR-CALDESC:Events for Suzuki Music Schools
REFRESH-INTERVAL;VALUE=DURATION:PT1H
X-Robots-Tag:noindex
X-PUBLISHED-TTL:PT1H
BEGIN:VTIMEZONE
TZID:America/New_York
BEGIN:DAYLIGHT
TZOFFSETFROM:-0500
TZOFFSETTO:-0400
TZNAME:EDT
DTSTART:20210314T070000
END:DAYLIGHT
BEGIN:STANDARD
TZOFFSETFROM:-0400
TZOFFSETTO:-0500
TZNAME:EST
DTSTART:20211107T060000
END:STANDARD
BEGIN:DAYLIGHT
TZOFFSETFROM:-0500
TZOFFSETTO:-0400
TZNAME:EDT
DTSTART:20220313T070000
END:DAYLIGHT
BEGIN:STANDARD
TZOFFSETFROM:-0400
TZOFFSETTO:-0500
TZNAME:EST
DTSTART:20221106T060000
END:STANDARD
BEGIN:DAYLIGHT
TZOFFSETFROM:-0500
TZOFFSETTO:-0400
TZNAME:EDT
DTSTART:20230312T070000
END:DAYLIGHT
BEGIN:STANDARD
TZOFFSETFROM:-0400
TZOFFSETTO:-0500
TZNAME:EST
DTSTART:20231105T060000
END:STANDARD
BEGIN:DAYLIGHT
TZOFFSETFROM:-0500
TZOFFSETTO:-0400
TZNAME:EDT
DTSTART:20240310T070000
END:DAYLIGHT
BEGIN:STANDARD
TZOFFSETFROM:-0400
TZOFFSETTO:-0500
TZNAME:EST
DTSTART:20241103T060000
END:STANDARD
END:VTIMEZONE
BEGIN:VEVENT
DTSTART;TZID=America/New_York:20230514T140000
DTEND;TZID=America/New_York:20230514T180000
DTSTAMP:20260425T192101
CREATED:20220901T181228Z
LAST-MODIFIED:20230502T222512Z
UID:10394-1684072800-1684087200@suzukischools.org
SUMMARY:Student Recitals - Westport
DESCRIPTION:Student Recitals – Blake Recital Room\nToday’s recitals will feature students from the following studios:\n12:00pm – Andrea Gomez\n1:30pm – Andrea Mills & Celine Dean\n3:00pm – Jerilyne Arslanagic\, Leslie Waddell\, Sarah Smale\n4:30pm – Arthur Millar & Jerilyne Arslanagic\nToday’s recitals will be accompanied by Andrew Gordon. All students performing with piano must rehearse with Mr Gordon in advance of the recital. Please book your rehearsal time with Andrew using our appointment calendar.\n  \nReserve Your Accompanist Time Here
URL:http://suzukischools.org/events/student-recitals-14/
LOCATION:Suzuki Music Schools Westport\, 246 Post Rd. East\, Westport\, 06880\, United States
CATEGORIES:Event,School Calendar,Student Performances
END:VEVENT
BEGIN:VEVENT
DTSTART;TZID=America/New_York:20230513T140000
DTEND;TZID=America/New_York:20230513T180000
DTSTAMP:20260425T192101
CREATED:20220901T180940Z
LAST-MODIFIED:20230502T222217Z
UID:10389-1683986400-1684000800@suzukischools.org
SUMMARY:Student Recitals - Westport
DESCRIPTION:Student Recitals – Blake Recital Room\nToday’s recitals will feature students from the following studios:\n2:00pm – Sarah Smale & Celine Dean\n3:30pm – Sarah Smale & Jane Zopff\nToday’s recitals will be accompanied by Andrew Gordon. All students performing with piano must rehearse with Mr Gordon in advance of the recital. Please book your rehearsal time with Andrew using our appointment calendar.
URL:http://suzukischools.org/events/student-recitals-13/
LOCATION:Suzuki Music Schools Westport\, 246 Post Rd. East\, Westport\, 06880\, United States
END:VEVENT
BEGIN:VEVENT
DTSTART;TZID=America/New_York:20230513T100000
DTEND;TZID=America/New_York:20230513T133000
DTSTAMP:20260425T192101
CREATED:20230120T182008Z
LAST-MODIFIED:20230314T182223Z
UID:11701-1683972000-1683984600@suzukischools.org
SUMMARY:Westport Recital Accompanying
DESCRIPTION:Andrew Gordon is available to accompany students for the Westport Spring Recitals\nBook your time with Andrew Gordon using our booking form.\nAs you choose a time please be considerate and fill in available times as close as possible to an existing student to avoid gaps.
URL:http://suzukischools.org/events/westport-recital-accompanying-4/
LOCATION:Suzuki Music Schools Westport\, 246 Post Rd. East\, Westport\, 06880\, United States
CATEGORIES:Community,Event,School Calendar,Student Performances
END:VEVENT
BEGIN:VEVENT
DTSTART;TZID=America/New_York:20230511T183000
DTEND;TZID=America/New_York:20230511T213000
DTSTAMP:20260425T192101
CREATED:20230509T012013Z
LAST-MODIFIED:20230509T012423Z
UID:12414-1683829800-1683840600@suzukischools.org
SUMMARY:Westport Recital Accompanying
DESCRIPTION:Andrew Gordon is available to accompany students for the Westport Spring Recitals\nBook your time with Andrew Gordon using our booking form.\nAs you choose a time please be considerate and fill in available times as close as possible to an existing student to avoid gaps.
URL:http://suzukischools.org/events/westport-recital-accompanying-7/
LOCATION:Suzuki Music Schools Westport\, 246 Post Rd. East\, Westport\, 06880\, United States
END:VEVENT
BEGIN:VEVENT
DTSTART;TZID=America/New_York:20230510T160000
DTEND;TZID=America/New_York:20230510T213000
DTSTAMP:20260425T192101
CREATED:20230120T181826Z
LAST-MODIFIED:20230509T011559Z
UID:11699-1683734400-1683754200@suzukischools.org
SUMMARY:Westport Recital Accompanying
DESCRIPTION:Andrew Gordon is available to accompany students for the Westport Spring Recitals\nBook your time with Andrew Gordon using our booking form.\nAs you choose a time please be considerate and fill in available times as close as possible to an existing student to avoid gaps.
URL:http://suzukischools.org/events/westport-recital-accompanying-3/
LOCATION:Suzuki Music Schools Westport\, 246 Post Rd. East\, Westport\, 06880\, United States
CATEGORIES:Community,Event,School Calendar,Student Performances
END:VEVENT
BEGIN:VEVENT
DTSTART;TZID=America/New_York:20230507T160000
DTEND;TZID=America/New_York:20230507T173000
DTSTAMP:20260425T192101
CREATED:20220830T203608Z
LAST-MODIFIED:20230224T234510Z
UID:10151-1683475200-1683480600@suzukischools.org
SUMMARY:WSHU Presents Andrew Smith & Joshua Pierce - The Complete Beethoven Violin Sonatas
DESCRIPTION:The Complete Beethoven Violin Sonatas\nAfter their sell out performances of the Complete Mozart Violin Sonatas\, this prizewinning duo return with a special four concert series of Beethoven’s 10 Violin Sonatas.\nAward-winning Violinist Andrew Smith\, director of the Suzuki Music Schools\, and Grammy nominted Pianist\, Joshua Pierce have been recognized for their spellbinding ensemble and insightful interpretations. Their release of the complete Mozart Violin Sonatas\, sold out in only a few months and now WSHU is pleased to present this four concert series of Beethoven at the Blake Family Concert Hall in the heart of Westport. \nProgram IV – The Master Pieces \nSonata no.9 in A\, Op.47 “The Kreutzer” \nSonata no.10 in G\, Op.96 \n\nPurchase Tickets
URL:http://suzukischools.org/events/wshu-presents-andrew-smith-joshua-pierce-the-complete-beethoven-violin-sonatas-3/
LOCATION:Suzuki Music Schools Westport\, 246 Post Rd. East\, Westport\, 06880\, United States
CATEGORIES:25th Anniversary,Community,Event,Faculty Performances,School Calendar
ATTACH;FMTTYPE=image/webp:http://suzukischools.org/wp-content/uploads/2022/08/Id-Wshu-Pr-Rgb-h.webp
END:VEVENT
BEGIN:VEVENT
DTSTART;TZID=America/New_York:20230507T120000
DTEND;TZID=America/New_York:20230507T150000
DTSTAMP:20260425T192101
CREATED:20220901T181743Z
LAST-MODIFIED:20230502T222308Z
UID:10408-1683460800-1683471600@suzukischools.org
SUMMARY:Student Recitals - Westport
DESCRIPTION:Student Recitals – Blake Recital Room\nToday’s recitals will feature students from the following studios:\n12:00pm – Dr. Nina Crothers & Kumiko Imamura \n1:30pm – Alexis Zingale
URL:http://suzukischools.org/events/student-recitals-westport-2/
LOCATION:Suzuki Music Schools Westport\, 246 Post Rd. East\, Westport\, 06880\, United States
CATEGORIES:Event,School Calendar,Student Performances
END:VEVENT
BEGIN:VEVENT
DTSTART;TZID=America/New_York:20230506T133000
DTEND;TZID=America/New_York:20230506T143000
DTSTAMP:20260425T192101
CREATED:20220901T180421Z
LAST-MODIFIED:20230316T154256Z
UID:10382-1683379800-1683383400@suzukischools.org
SUMMARY:Performance Class
DESCRIPTION:Performance Class with Andrew Gordon\nPerformance Class is held on select Saturdays across the academic year. Andrew Gordon\, professional pianist and accompanist\, provides advice and help to students at every level from beginner to advanced on how to perform their pieces.\nIt’s a class but also an ‘open mic’ opportunity for students to try out their pieces in an informal environment. \nSpace is limited to 8 participants. Reserve your child’s time in the class through this link: https://form.jotform.com/230725526102143
URL:http://suzukischools.org/events/performance-class-4/
LOCATION:Suzuki Music Schools Westport\, 246 Post Rd. East\, Westport\, 06880\, United States
CATEGORIES:School Calendar,Student Performances
END:VEVENT
BEGIN:VEVENT
DTSTART;TZID=America/New_York:20230506T093000
DTEND;TZID=America/New_York:20230506T123000
DTSTAMP:20260425T192101
CREATED:20230120T181533Z
LAST-MODIFIED:20230314T182450Z
UID:11697-1683365400-1683376200@suzukischools.org
SUMMARY:Westport Recital Accompanying
DESCRIPTION:Andrew Gordon is available to accompany students for the Westport Spring Recitals.\nBook your time with Andrew using our booking form.\nAs you choose a time please be considerate and fill in available times as close as possible to an existing student to avoid gaps.
URL:http://suzukischools.org/events/westport-recital-accompanying-2/
LOCATION:Suzuki Music Schools Westport\, 246 Post Rd. East\, Westport\, 06880\, United States
CATEGORIES:Community,Event,School Calendar,Student Performances
END:VEVENT
BEGIN:VEVENT
DTSTART;TZID=America/New_York:20230504T164500
DTEND;TZID=America/New_York:20230504T190000
DTSTAMP:20260425T192101
CREATED:20230120T180735Z
LAST-MODIFIED:20230829T195640Z
UID:11687-1683218700-1683226800@suzukischools.org
SUMMARY:Westport Recital Accompanying
DESCRIPTION:Andrew Gordon is available to accompany students for the Westport Spring Recitals\nBook your time below\nBook your time with Andrew using our booking form.\nAs you choose a time please be considerate and fill in available times as close as possible to an existing student to avoid gaps.
URL:http://suzukischools.org/events/westport-recital-accompanying/
LOCATION:Suzuki Music Schools Westport\, 246 Post Rd. East\, Westport\, 06880\, United States
CATEGORIES:Community,Event,School Calendar,Student Performances
END:VEVENT
BEGIN:VEVENT
DTSTART;TZID=America/New_York:20230423T150000
DTEND;TZID=America/New_York:20230423T163000
DTSTAMP:20260425T192101
CREATED:20220815T174737Z
LAST-MODIFIED:20230325T173912Z
UID:9917-1682262000-1682267400@suzukischools.org
SUMMARY:Pillow Concert - The Callisto Quartet in Residence
DESCRIPTION:The Callisto Quartet – 2022-23 Artists in Residence\n																										 \nBring Your Family and help us celebrate our 25th Anniversary with a special family concert series by the Callisto Quartet and friends\nAs part of their residency at the Suzuki Schools\, the Callisto Quartet present an exploration of masters of the genre with quartets by Schubert and Bartok. \n																										 \nThe Callisto Quartet perform Schubert and Bartok\nProgramSchubert – Quartettstatz D.703Bartok – Quartet No.4
URL:http://suzukischools.org/events/pillow-concert-the-callisto-quartet-in-residence-4/
LOCATION:Suzuki Music Schools Westport\, 246 Post Rd. East\, Westport\, 06880\, United States
CATEGORIES:25th Anniversary,Da Capo Visiting Artist Series,Event,Faculty Performances,Pillow Concert Series,School Calendar
ATTACH;FMTTYPE=image/jpeg:http://suzukischools.org/wp-content/uploads/2022/08/IMG_0594-scaled.jpeg
END:VEVENT
BEGIN:VEVENT
DTSTART;TZID=America/New_York:20230423T133000
DTEND;TZID=America/New_York:20230423T150000
DTSTAMP:20260425T192101
CREATED:20220830T231910Z
LAST-MODIFIED:20230314T182556Z
UID:10292-1682256600-1682262000@suzukischools.org
SUMMARY:Ice Cream Practice Challenge Party - Westport
DESCRIPTION:The Icrecream Practice Challenge Party\nCome and join the party …. the icecream practice challenge party. Bring your practice sheet to get it verified and displayed.\nAnd once you have had your fill of icecream stay to the Pillow Concert with the Callisto Quartet from 3-4pm
URL:http://suzukischools.org/events/icecream-practice-challenge-party-westport/
LOCATION:Suzuki Music Schools Westport\, 246 Post Rd. East\, Westport\, 06880\, United States
CATEGORIES:Community,Event,School Calendar
ATTACH;FMTTYPE=image/jpeg:http://suzukischools.org/wp-content/uploads/2022/05/ice-cream-gd948b2b10_640.jpg
END:VEVENT
BEGIN:VEVENT
DTSTART;TZID=America/New_York:20230416T160000
DTEND;TZID=America/New_York:20230416T173000
DTSTAMP:20260425T192101
CREATED:20220830T202740Z
LAST-MODIFIED:20230224T234856Z
UID:10143-1681660800-1681666200@suzukischools.org
SUMMARY:WSHU Presents Andrew Smith & Joshua Pierce - The Complete Beethoven Violin Sonatas
DESCRIPTION:The Complete Beethoven Violin Sonatas\nAfter their sell out performances of the Complete Mozart Violin Sonatas\, this prizewinning duo return with a special four concert series of Beethoven’s 10 Violin Sonatas.\nAward-winning Violinist Andrew Smith\, director of the Suzuki Music Schools\, and Grammy nominted Pianist\, Joshua Pierce have been recognized for their spellbinding ensemble and insightful interpretations. Their release of the complete Mozart Violin Sonatas\, sold out in only a few months and now WSHU is pleased to present this four concert series of Beethoven at the Blake Family Concert Hall in the heart of Westport. \nProgram 3 – Op.30 His Mature Voice \nSonata no.6 in A \nSonata no.7 in c minor \nSonata no.8 in G \n\npurchase tickets
URL:http://suzukischools.org/events/wshu-presents-andrew-smith-joshua-pierce-the-complete-beethoven-violin-sonatas-2/
LOCATION:Suzuki Music Schools Westport\, 246 Post Rd. East\, Westport\, 06880\, United States
CATEGORIES:25th Anniversary,Community,Event,Faculty Performances,School Calendar
ATTACH;FMTTYPE=image/webp:http://suzukischools.org/wp-content/uploads/2022/08/Id-Wshu-Pr-Rgb-h.webp
END:VEVENT
BEGIN:VEVENT
DTSTART;VALUE=DATE:20230407
DTEND;VALUE=DATE:20230414
DTSTAMP:20260425T192101
CREATED:20220830T231429Z
LAST-MODIFIED:20230314T182651Z
UID:10281-1680825600-1681430399@suzukischools.org
SUMMARY:Spring Break - Westport Campus
DESCRIPTION:Spring Break – School Closed
URL:http://suzukischools.org/events/spring-break-westport-campus/
LOCATION:Suzuki Music Schools Westport\, 246 Post Rd. East\, Westport\, 06880\, United States
CATEGORIES:School Calendar
END:VEVENT
BEGIN:VEVENT
DTSTART;VALUE=DATE:20230402
DTEND;VALUE=DATE:20230403
DTSTAMP:20260425T192101
CREATED:20230119T235627Z
LAST-MODIFIED:20230318T133709Z
UID:11599-1680393600-1680479999@suzukischools.org
SUMMARY:Concerto & Aria Audition Day
DESCRIPTION:Talk with your teacher to register for an audition		 \nAudition Day – Concerto & Aria Concert\nIt’s one of our most exciting concerts of the year. Gifted young musicians from throughout the region perform with a professional orchestra and renowned conductor.\nChat with your teacher about whether the experience is right for your child and for a list of approved repertoire. \nPlease use the following link to register for an audition: https://form.jotform.com/213254395774160
URL:http://suzukischools.org/events/concerto-aria-audition-day/
LOCATION:Suzuki Music Schools Westport\, 246 Post Rd. East\, Westport\, 06880\, United States
CATEGORIES:Community,School Calendar,Student Performances
ATTACH;FMTTYPE=image/jpeg:http://suzukischools.org/wp-content/uploads/2021/02/Suzuki-Honors-Program.jpg
END:VEVENT
BEGIN:VEVENT
DTSTART;TZID=America/New_York:20230401T133000
DTEND;TZID=America/New_York:20230401T143000
DTSTAMP:20260425T192101
CREATED:20230314T175843Z
LAST-MODIFIED:20230314T182740Z
UID:12034-1680355800-1680359400@suzukischools.org
SUMMARY:Performance Class
DESCRIPTION:Performance Class with Andrew Gordon\n\n\n\n\n\n\n\n\n\n\n\nPerformance Class is held on select Saturdays across the academic year. Andrew Gordon\, professional pianist and accompanist\, provides advice and help to students at every level from beginner to advanced on how to perform their pieces.\nIt’s a class but also an ‘open mic’ opportunity for students to try out their pieces in an informal environment. \nSpace is limited to 8 participants. Reserve your child’s time in the class through this link: https://form.jotform.com/230725328949162
URL:http://suzukischools.org/events/performance-class-4-1/
LOCATION:Suzuki Music Schools Westport\, 246 Post Rd. East\, Westport\, 06880\, United States
CATEGORIES:School Calendar,Student Performances
END:VEVENT
BEGIN:VEVENT
DTSTART;TZID=America/New_York:20230319T160000
DTEND;TZID=America/New_York:20230319T173000
DTSTAMP:20260425T192101
CREATED:20220830T201957Z
LAST-MODIFIED:20230314T182807Z
UID:10136-1679241600-1679247000@suzukischools.org
SUMMARY:WSHU Presents Andrew Smith & Joshua Pierce - The Complete Beethoven Violin Sonatas
DESCRIPTION:The Complete Beethoven Violin Sonatas\nAfter their sell out performances of the Complete Mozart Violin Sonatas\, this prizewinning duo return with a special four concert series of Beethoven’s 10 Violin Sonatas.\nAward-winning Violinist Andrew Smith\, director of the Suzuki Music Schools\, and Grammy nominted Pianist\, Joshua Pierce have been recognized for their spellbinding ensemble and insightful interpretations. Their release of the complete Mozart Violin Sonatas\, sold out in only a few months and now WSHU is pleased to present this four concert series of Beethoven at the Blake Family Concert Hall in the heart of Westport. \nProgram – Op.23 and 24 ” A New Voice” \nSonata no.4 in a minor \nSonata no.5 “The Spring” \n\nPurchase tickets
URL:http://suzukischools.org/events/wshu-presents-andrew-smith-joshua-pierce-the-complete-beethoven-violin-sonatas/
LOCATION:Suzuki Music Schools Westport\, 246 Post Rd. East\, Westport\, 06880\, United States
CATEGORIES:25th Anniversary,Community,Event,Faculty Performances,School Calendar
ATTACH;FMTTYPE=image/webp:http://suzukischools.org/wp-content/uploads/2022/08/Id-Wshu-Pr-Rgb-h.webp
END:VEVENT
BEGIN:VEVENT
DTSTART;TZID=America/New_York:20230311T133000
DTEND;TZID=America/New_York:20230311T143000
DTSTAMP:20260425T192101
CREATED:20220901T180053Z
LAST-MODIFIED:20230302T163802Z
UID:10375-1678541400-1678545000@suzukischools.org
SUMMARY:Performance Class
DESCRIPTION:Performance Class with Andrew Gordon\nPerformance Class is held on select Saturdays across the academic year. Andrew Gordon\, professional pianist and accompanist\, provides advice and help to students at every level from beginner to advanced on how to perform their pieces.\nIt’s a class but also an ‘open mic’ opportunity for students to try out their pieces in an informal environment. \nSpace is limited to 8 participants. Reserve your child’s time in the class through this link: https://form.jotform.com/230604719731151
URL:http://suzukischools.org/events/performance-class-3/
LOCATION:Suzuki Music Schools Westport\, 246 Post Rd. East\, Westport\, 06880\, United States
CATEGORIES:School Calendar,Student Performances
END:VEVENT
BEGIN:VEVENT
DTSTART;VALUE=DATE:20230218
DTEND;VALUE=DATE:20230225
DTSTAMP:20260425T192101
CREATED:20220830T230832Z
LAST-MODIFIED:20230314T182933Z
UID:10273-1676678400-1677283199@suzukischools.org
SUMMARY:February Recess For Both Schools
DESCRIPTION:
URL:http://suzukischools.org/events/february-recess-for-both-schools/
LOCATION:Suzuki Music Schools Westport\, 246 Post Rd. East\, Westport\, 06880\, United States
CATEGORIES:School Calendar
END:VEVENT
BEGIN:VEVENT
DTSTART;TZID=America/New_York:20230212T160000
DTEND;TZID=America/New_York:20230212T173000
DTSTAMP:20260425T192101
CREATED:20220830T195826Z
LAST-MODIFIED:20230224T235223Z
UID:10127-1676217600-1676223000@suzukischools.org
SUMMARY:WSHU Present Andrew Smith\, violin & Joshua Pierce\, piano The Complete Beethoven Violin Sonatas
DESCRIPTION:The Complete Beethoven Violin Sonatas\n \nAfter their sell out performances of the Complete Mozart Violin Sonatas\, this prizewinning duo return with a special four concert series of Beethoven’s 10 Violin Sonatas.\nAward-winning Violinist Andrew Smith\, director of the Suzuki Music Schools\, and Grammy nominted Pianist\, Joshua Pierce have been recognized for their spellbinding ensemble and insightful interpretations. Their release of the complete Mozart Violin Sonatas\, sold out in only a few months and now WSHU is pleased to present this four concert series of Beethoven at the Blake Family Concert Hall in the heart of Westport. \nProgram – Op.12 “Beethoven’s Arrival in Vienna” \nSonata no.1 in D \nSonata no.2 in A \nSonata no.3 in E flat \n\nPURCHASE TICETS
URL:http://suzukischools.org/events/wshu-present-andrew-smith-violin-joshua-pierce-piano-the-complete-beethoven-violin-sonatas/
LOCATION:Suzuki Music Schools Westport\, 246 Post Rd. East\, Westport\, 06880\, United States
CATEGORIES:25th Anniversary,Event,Faculty Performances,School Calendar
ATTACH;FMTTYPE=image/webp:http://suzukischools.org/wp-content/uploads/2022/08/Id-Wshu-Pr-Rgb-h.webp
END:VEVENT
BEGIN:VEVENT
DTSTART;VALUE=DATE:20230205
DTEND;VALUE=DATE:20230206
DTSTAMP:20260425T192101
CREATED:20220830T230032Z
LAST-MODIFIED:20230224T235258Z
UID:10261-1675555200-1675641599@suzukischools.org
SUMMARY:Deborah Kahan Competition
DESCRIPTION:
URL:http://suzukischools.org/events/deborah-kahan-competition/
LOCATION:Suzuki Music Schools Westport\, 246 Post Rd. East\, Westport\, 06880\, United States
CATEGORIES:Community,Event,School Calendar,Student Performances
END:VEVENT
BEGIN:VEVENT
DTSTART;TZID=America/New_York:20230204T133000
DTEND;TZID=America/New_York:20230204T143000
DTSTAMP:20260425T192101
CREATED:20220901T175705Z
LAST-MODIFIED:20230314T183031Z
UID:10368-1675517400-1675521000@suzukischools.org
SUMMARY:Performance Class
DESCRIPTION:Performance Class with Andrew Gordon\nPerformance Class is held on select Saturdays across the academic year. Andrew Gordon\, professional pianist and accompanist\, provides advice and help to students at every level from beginner to advanced on how to perform their pieces.\nIt’s a class but also an ‘open mic’ opportunity for students to try out their pieces in an informal environment. \nSpace is limited to 8 participants. Reserve your child’s time in the class
URL:http://suzukischools.org/events/performance-class-2/
LOCATION:Suzuki Music Schools Westport\, 246 Post Rd. East\, Westport\, 06880\, United States
CATEGORIES:School Calendar,Student Performances
END:VEVENT
BEGIN:VEVENT
DTSTART;VALUE=DATE:20230204
DTEND;VALUE=DATE:20230205
DTSTAMP:20260425T192101
CREATED:20220830T224410Z
LAST-MODIFIED:20230314T183102Z
UID:10254-1675468800-1675555199@suzukischools.org
SUMMARY:Ice Cream Practice Challenge
DESCRIPTION:The Westport Ice Cream Practice Challenge Starts Today!\nReady Set Go!!!!! You have 64 Days to practice 50 times. Get a challenge chart from your teacher and mark off the times you practice with you parents. If you can keep up the pace then your invited to our special ice cream party where faculty serve the students!
URL:http://suzukischools.org/events/ice-cream-practice-challenge/
LOCATION:Suzuki Music Schools Westport\, 246 Post Rd. East\, Westport\, 06880\, United States
CATEGORIES:School Calendar
ATTACH;FMTTYPE=image/jpeg:http://suzukischools.org/wp-content/uploads/2022/05/ice-cream-gd948b2b10_640.jpg
END:VEVENT
BEGIN:VEVENT
DTSTART;VALUE=DATE:20230130
DTEND;VALUE=DATE:20230131
DTSTAMP:20260425T192101
CREATED:20220830T230247Z
LAST-MODIFIED:20230314T183157Z
UID:10263-1675036800-1675123199@suzukischools.org
SUMMARY:First Day of Spring Classes - Westport
DESCRIPTION:First day of Spring Classes – Westport campus
URL:http://suzukischools.org/events/first-day-of-spring-classes-westport/
LOCATION:Suzuki Music Schools Westport\, 246 Post Rd. East\, Westport\, 06880\, United States
CATEGORIES:School Calendar
END:VEVENT
BEGIN:VEVENT
DTSTART;TZID=America/New_York:20230129T150000
DTEND;TZID=America/New_York:20230129T163000
DTSTAMP:20260425T192101
CREATED:20220815T170909Z
LAST-MODIFIED:20230314T183225Z
UID:9890-1675004400-1675009800@suzukischools.org
SUMMARY:Pillow Concert - The Callisto Quartet in Residence
DESCRIPTION:The Callisto Quartet – 2022-23 Artists in Residence\n \nBring your family and help us celebrate our 25th Anniversary with a special family concert series by the Callisto Quartet and Friends\nAs part of their residncy at the Suzuki Schools\, the Callisto Quartet present an exploration of masters of the genre with the quartets of Mozart and Bartok. \n \nThe Callisto Quartet performs Mozart and Bartok\nProgram \nBartok – Quartet No.3\nMozart – Quartet in E flat major K.428
URL:http://suzukischools.org/events/the-callisto-quartet-quartet-in-residence/
LOCATION:Suzuki Music Schools Westport\, 246 Post Rd. East\, Westport\, 06880\, United States
CATEGORIES:25th Anniversary,Da Capo Visiting Artist Series,Event,Faculty Performances,Pillow Concert Series,School Calendar
ATTACH;FMTTYPE=image/jpeg:http://suzukischools.org/wp-content/uploads/2022/08/IMG_0594-scaled.jpeg
END:VEVENT
BEGIN:VEVENT
DTSTART;TZID=America/New_York:20230127T180000
DTEND;TZID=America/New_York:20230127T180000
DTSTAMP:20260425T192101
CREATED:20230110T132738Z
LAST-MODIFIED:20230321T212210Z
UID:11483-1674842400-1674842400@suzukischools.org
SUMMARY:Chamber Music Fall Concert
DESCRIPTION:Chamber Music Concert\nJoin the Callisto Quartet and our student ensembles as they perform their end of semester concert of chamber music pieces. \nAdmission is free\nMusic by Arensky\, Mozart\, Beethoven\, Dohnanyi
URL:http://suzukischools.org/events/chamber-music-fall-concert/
LOCATION:Suzuki Music Schools Westport\, 246 Post Rd. East\, Westport\, 06880\, United States
CATEGORIES:Community,Event,School Calendar,Student Performances
ATTACH;FMTTYPE=image/jpeg:http://suzukischools.org/wp-content/uploads/2021/03/Suzuki-Mission.jpg
END:VEVENT
BEGIN:VEVENT
DTSTART;VALUE=DATE:20230123
DTEND;VALUE=DATE:20230129
DTSTAMP:20260425T192101
CREATED:20220830T224023Z
LAST-MODIFIED:20230314T183356Z
UID:10249-1674432000-1674950399@suzukischools.org
SUMMARY:Make-Up Week - Westport Campus
DESCRIPTION:Make-Up Week at our Westport campus \nPlease Read our Make-Up policy
URL:http://suzukischools.org/events/make-up-week-westport-campus/
LOCATION:Suzuki Music Schools Westport\, 246 Post Rd. East\, Westport\, 06880\, United States
END:VEVENT
BEGIN:VEVENT
DTSTART;VALUE=DATE:20230113
DTEND;VALUE=DATE:20230116
DTSTAMP:20260425T192101
CREATED:20220906T213852Z
LAST-MODIFIED:20230224T235520Z
UID:10478-1673568000-1673827199@suzukischools.org
SUMMARY:Da Capo Visiting Artist Series - Piano Day
DESCRIPTION:
URL:http://suzukischools.org/events/da-capo-visiting-artist-series-piano-day/
LOCATION:Suzuki Music Schools Westport\, 246 Post Rd. East\, Westport\, 06880\, United States
CATEGORIES:Da Capo Visiting Artist Series,School Calendar,Student Performances
END:VEVENT
BEGIN:VEVENT
DTSTART;VALUE=DATE:20221222
DTEND;VALUE=DATE:20230105
DTSTAMP:20260425T192101
CREATED:20220808T180948Z
LAST-MODIFIED:20230314T183502Z
UID:9772-1671667200-1672876799@suzukischools.org
SUMMARY:Winter Holiday Break - Westport Campus
DESCRIPTION:Winter Break – Westport Campus
URL:http://suzukischools.org/events/winter-holiday-break-westport-campus/
LOCATION:Suzuki Music Schools Westport\, 246 Post Rd. East\, Westport\, 06880\, United States
END:VEVENT
BEGIN:VEVENT
DTSTART;TZID=America/New_York:20221211T130000
DTEND;TZID=America/New_York:20221211T170000
DTSTAMP:20260425T192101
CREATED:20220901T150108Z
LAST-MODIFIED:20230224T235446Z
UID:10309-1670763600-1670778000@suzukischools.org
SUMMARY:CSMTA - Festival Auditions
DESCRIPTION:
URL:http://suzukischools.org/events/csmta-festival-auditions/
LOCATION:Suzuki Music Schools Westport\, 246 Post Rd. East\, Westport\, 06880\, United States
CATEGORIES:Community,Event,School Calendar
END:VEVENT
END:VCALENDAR