BEGIN:VCALENDAR
VERSION:2.0
PRODID:-//Suzuki Music Schools - ECPv6.15.20//NONSGML v1.0//EN
CALSCALE:GREGORIAN
METHOD:PUBLISH
X-ORIGINAL-URL:http://suzukischools.org
X-WR-CALDESC:Events for Suzuki Music Schools
REFRESH-INTERVAL;VALUE=DURATION:PT1H
X-Robots-Tag:noindex
X-PUBLISHED-TTL:PT1H
BEGIN:VTIMEZONE
TZID:America/New_York
BEGIN:DAYLIGHT
TZOFFSETFROM:-0500
TZOFFSETTO:-0400
TZNAME:EDT
DTSTART:20220313T070000
END:DAYLIGHT
BEGIN:STANDARD
TZOFFSETFROM:-0400
TZOFFSETTO:-0500
TZNAME:EST
DTSTART:20221106T060000
END:STANDARD
BEGIN:DAYLIGHT
TZOFFSETFROM:-0500
TZOFFSETTO:-0400
TZNAME:EDT
DTSTART:20230312T070000
END:DAYLIGHT
BEGIN:STANDARD
TZOFFSETFROM:-0400
TZOFFSETTO:-0500
TZNAME:EST
DTSTART:20231105T060000
END:STANDARD
BEGIN:DAYLIGHT
TZOFFSETFROM:-0500
TZOFFSETTO:-0400
TZNAME:EDT
DTSTART:20240310T070000
END:DAYLIGHT
BEGIN:STANDARD
TZOFFSETFROM:-0400
TZOFFSETTO:-0500
TZNAME:EST
DTSTART:20241103T060000
END:STANDARD
BEGIN:DAYLIGHT
TZOFFSETFROM:-0500
TZOFFSETTO:-0400
TZNAME:EDT
DTSTART:20250309T070000
END:DAYLIGHT
BEGIN:STANDARD
TZOFFSETFROM:-0400
TZOFFSETTO:-0500
TZNAME:EST
DTSTART:20251102T060000
END:STANDARD
END:VTIMEZONE
BEGIN:VEVENT
DTSTART;TZID=America/New_York:20240601T150000
DTEND;TZID=America/New_York:20240601T163000
DTSTAMP:20260425T120820
CREATED:20230829T232257Z
LAST-MODIFIED:20240502T154205Z
UID:12980-1717254000-1717259400@suzukischools.org
SUMMARY:The Honors Concert
DESCRIPTION:The Honors Concert\n \nExceptional students share their talents in probably one of the most remarkable concerts of the 25th anniversary year! The concert is free and open to the public
URL:http://suzukischools.org/events/the-honors-concert-24/
LOCATION:Suzuki Music Schools Westport\, 246 Post Rd. East\, Westport\, 06880\, United States
CATEGORIES:Event,School Calendar,Student Performances
ATTACH;FMTTYPE=image/jpeg:http://suzukischools.org/wp-content/uploads/2021/02/Suzuki-Honors-Program.jpg
END:VEVENT
BEGIN:VEVENT
DTSTART;TZID=America/New_York:20240601T123000
DTEND;TZID=America/New_York:20240601T133000
DTSTAMP:20260425T120820
CREATED:20240408T214712Z
LAST-MODIFIED:20240408T214813Z
UID:14876-1717245000-1717248600@suzukischools.org
SUMMARY:Performance Class
DESCRIPTION:Performance Class with Alexis Zingale\nPerformance Class is held on select Saturdays across the academic year. Alexis Zingale\, professional pianist\, SMS faculty and accompanist\, provides advice and help to students at every level from beginner to advanced on how to perform their pieces.\nIt’s a class but also an ‘open mic’ opportunity for students to try out their pieces in an informal environment. \nSpace is limited to 8 participants. Reserve your child’s time in the class through this link: https://form.jotform.com/240987326991168
URL:http://suzukischools.org/events/performance-class-6/
LOCATION:Suzuki Music Schools Westport\, 246 Post Rd. East\, Westport\, 06880\, United States
CATEGORIES:Event,School Calendar,Student Performances
END:VEVENT
BEGIN:VEVENT
DTSTART;TZID=America/New_York:20240529T170000
DTEND;TZID=America/New_York:20240529T190000
DTSTAMP:20260425T120820
CREATED:20240525T170155Z
LAST-MODIFIED:20240525T170520Z
UID:15017-1717002000-1717009200@suzukischools.org
SUMMARY:Honors Recital Accompanying
DESCRIPTION:Andrew Gordon is available to accompany students for this year’s Honors Recital\nBook your time with Andrew Gordon using our booking form.\nAs you choose a time\, please be considerate and fill in available times as close as possible to an existing student to avoid gaps.
URL:http://suzukischools.org/events/honors-recital-accompanying-2024/
LOCATION:Suzuki Music Schools Westport\, 246 Post Rd. East\, Westport\, 06880\, United States
CATEGORIES:Community,Event,School Calendar,Student Performances
END:VEVENT
BEGIN:VEVENT
DTSTART;TZID=America/New_York:20240519T120000
DTEND;TZID=America/New_York:20240519T183000
DTSTAMP:20260425T120820
CREATED:20230829T231400Z
LAST-MODIFIED:20240429T222023Z
UID:12964-1716120000-1716143400@suzukischools.org
SUMMARY:Student Recitals - Westport
DESCRIPTION:Student Recitals – Blake Recital Room\n \nToday’s recitals feature students from the studios of:\n3:00pm – Mr. Daniel Corr and Mr. Scott Hill\n4:30pm – Mr. Igor Ferreira\nAccompaniment Booking
URL:http://suzukischools.org/events/student-recitals-westport-12/
LOCATION:Suzuki Music Schools Westport\, 246 Post Rd. East\, Westport\, 06880\, United States
CATEGORIES:Event,School Calendar,Student Performances
ATTACH;FMTTYPE=image/jpeg:http://suzukischools.org/wp-content/uploads/2021/09/pillow.jpg
END:VEVENT
BEGIN:VEVENT
DTSTART;TZID=America/New_York:20240518T140000
DTEND;TZID=America/New_York:20240518T190000
DTSTAMP:20260425T120820
CREATED:20230829T231637Z
LAST-MODIFIED:20240429T221534Z
UID:12968-1716040800-1716058800@suzukischools.org
SUMMARY:Student Recitals - Westport
DESCRIPTION:Student Recitals – Blake Recital Room\n																										 \nToday’s recitals feature students from the studios of:\n1:30pm – Ms. Jerilyne Arslanagic\, Ms. Andrea Gomez and Ms. Sarah Smale\n3:00pm – Ms. Jerilyne Arslanagic\, Ms. Sarah Smale and Ms. Amy Griswold\nToday’s recitals will be accompanied by Andrew Gordon. All students performing with piano must rehearse with Mr Gordon in advance of the recital. Please book your rehearsal time with Andrew using our appointment calendar.\nAccompaniment Booking
URL:http://suzukischools.org/events/student-recitals-westport-14/
LOCATION:Suzuki Music Schools Westport\, 246 Post Rd. East\, Westport\, 06880\, United States
CATEGORIES:Event,School Calendar,Student Performances
ATTACH;FMTTYPE=image/jpeg:http://suzukischools.org/wp-content/uploads/2021/02/Suzuki-Honors-Program.jpg
END:VEVENT
BEGIN:VEVENT
DTSTART;TZID=America/New_York:20240518T100000
DTEND;TZID=America/New_York:20240518T120000
DTSTAMP:20260425T120820
CREATED:20240402T184258Z
LAST-MODIFIED:20240402T184258Z
UID:14790-1716026400-1716033600@suzukischools.org
SUMMARY:Recital Accompanying - Westport
DESCRIPTION:Andrew Gordon is available to accompany students for the Westport Spring Recitals\nBook your time with Andrew Gordon using our booking form.\nAs you choose a time please be considerate and fill in available times as close as possible to an existing student to avoid gaps.
URL:http://suzukischools.org/events/recital-accompanying-westport-12/
LOCATION:Suzuki Music Schools Westport\, 246 Post Rd. East\, Westport\, 06880\, United States
CATEGORIES:Community,Event,School Calendar,Student Performances
END:VEVENT
BEGIN:VEVENT
DTSTART;TZID=America/New_York:20240516T163000
DTEND;TZID=America/New_York:20240516T183000
DTSTAMP:20260425T120820
CREATED:20230829T232109Z
LAST-MODIFIED:20240402T183945Z
UID:12978-1715877000-1715884200@suzukischools.org
SUMMARY:Recital Accompanying - Westport
DESCRIPTION:Andrew Gordon is available to accompany students for the Westport Spring Recitals\nBook your time with Andrew Gordon using our booking form.\nAs you choose a time please be considerate and fill in available times as close as possible to an existing student to avoid gaps.
URL:http://suzukischools.org/events/recital-accompanying-westport-9/
LOCATION:Suzuki Music Schools Westport\, 246 Post Rd. East\, Westport\, 06880\, United States
CATEGORIES:Community,Event,School Calendar,Student Performances
END:VEVENT
BEGIN:VEVENT
DTSTART;TZID=America/New_York:20240515T163000
DTEND;TZID=America/New_York:20240515T183000
DTSTAMP:20260425T120820
CREATED:20230829T231948Z
LAST-MODIFIED:20240402T183908Z
UID:12974-1715790600-1715797800@suzukischools.org
SUMMARY:Recital Accompanying - Westport
DESCRIPTION:Andrew Gordon is available to accompany students for the Westport Spring Recitals\nBook your time with Andrew Gordon using our booking form.\nAs you choose a time please be considerate and fill in available times as close as possible to an existing student to avoid gaps.
URL:http://suzukischools.org/events/recital-accompanying-westport-8/
LOCATION:Suzuki Music Schools Westport\, 246 Post Rd. East\, Westport\, 06880\, United States
CATEGORIES:Community,Event,School Calendar,Student Performances
END:VEVENT
BEGIN:VEVENT
DTSTART;TZID=America/New_York:20240512T120000
DTEND;TZID=America/New_York:20240512T183000
DTSTAMP:20260425T120820
CREATED:20230829T231256Z
LAST-MODIFIED:20240429T221424Z
UID:12962-1715515200-1715538600@suzukischools.org
SUMMARY:Student Recitals - Westport
DESCRIPTION:Student Recitals – Blake Recital Room\n																										 \nToday’s recitals feature students from the studios of:\n12:00pm – Ms. Andrea Mills and Mr. Jacob Nordlinger\nToday’s recitals will be accompanied by Andrew Gordon. All students performing with piano must rehearse with Mr Gordon in advance of the recital. Please book your rehearsal time with Andrew using our appointment calendar.\nAccompaniment Booking
URL:http://suzukischools.org/events/student-recitals-westport-11/
LOCATION:Suzuki Music Schools Westport\, 246 Post Rd. East\, Westport\, 06880\, United States
CATEGORIES:Event,School Calendar,Student Performances
ATTACH;FMTTYPE=image/jpeg:http://suzukischools.org/wp-content/uploads/2021/09/pillow.jpg
END:VEVENT
BEGIN:VEVENT
DTSTART;TZID=America/New_York:20240511T140000
DTEND;TZID=America/New_York:20240511T190000
DTSTAMP:20260425T120820
CREATED:20230829T231523Z
LAST-MODIFIED:20240429T221332Z
UID:12966-1715436000-1715454000@suzukischools.org
SUMMARY:Student Recitals - Westport
DESCRIPTION:Student Recitals – Blake Recital Room\n																										 \nToday’s recitals feature students from the studios of:\n1:30pm – Ms. Celine Dean and Ms. Sarah Smale\n3:00pm – Ms. Celine Dean\, Ms. Amy Griswold\, Ms. Jerilyne Arslanagic and Ms. Sarah Smale\n4:30pm – Dr. Nina Crothers\, Ms. Andrea Gomez and Ms. Leslie Waddell\n6:00pm – Ms. Jerilyne Arslanagic and Ms. Andrea Mills\nToday’s recitals will be accompanied by Andrew Gordon. All students performing with piano must rehearse with Mr Gordon in advance of the recital. Please book your rehearsal time with Andrew using our appointment calendar.\nAccompaniment Booking
URL:http://suzukischools.org/events/student-recitals-westport-13/
LOCATION:Suzuki Music Schools Westport\, 246 Post Rd. East\, Westport\, 06880\, United States
CATEGORIES:Event,School Calendar,Student Performances
ATTACH;FMTTYPE=image/jpeg:http://suzukischools.org/wp-content/uploads/2021/02/Suzuki-Honors-Program.jpg
END:VEVENT
BEGIN:VEVENT
DTSTART;TZID=America/New_York:20240511T100000
DTEND;TZID=America/New_York:20240511T120000
DTSTAMP:20260425T120820
CREATED:20240402T184204Z
LAST-MODIFIED:20240402T184204Z
UID:14788-1715421600-1715428800@suzukischools.org
SUMMARY:Recital Accompanying - Westport
DESCRIPTION:Andrew Gordon is available to accompany students for the Westport Spring Recitals\nBook your time with Andrew Gordon using our booking form.\nAs you choose a time please be considerate and fill in available times as close as possible to an existing student to avoid gaps.
URL:http://suzukischools.org/events/recital-accompanying-westport-11/
LOCATION:Suzuki Music Schools Westport\, 246 Post Rd. East\, Westport\, 06880\, United States
CATEGORIES:Community,Event,School Calendar,Student Performances
END:VEVENT
BEGIN:VEVENT
DTSTART;TZID=America/New_York:20240509T163000
DTEND;TZID=America/New_York:20240509T190000
DTSTAMP:20260425T120820
CREATED:20230829T231855Z
LAST-MODIFIED:20240422T200105Z
UID:12972-1715272200-1715281200@suzukischools.org
SUMMARY:Recital Accompanying - Westport
DESCRIPTION:Andrew Gordon is available to accompany students for the Westport Spring Recitals\nBook your time with Andrew Gordon using our booking form.\nAs you choose a time please be considerate and fill in available times as close as possible to an existing student to avoid gaps.
URL:http://suzukischools.org/events/recital-accompanying-westport-7/
LOCATION:Suzuki Music Schools Westport\, 246 Post Rd. East\, Westport\, 06880\, United States
CATEGORIES:Community,Event,School Calendar,Student Performances
END:VEVENT
BEGIN:VEVENT
DTSTART;TZID=America/New_York:20240508T163000
DTEND;TZID=America/New_York:20240508T193000
DTSTAMP:20260425T120820
CREATED:20230829T231803Z
LAST-MODIFIED:20240422T200040Z
UID:12970-1715185800-1715196600@suzukischools.org
SUMMARY:Recital Accompanying - Westport
DESCRIPTION:Andrew Gordon is available to accompany students for the Westport Spring Recitals\nBook your time with Andrew Gordon using our booking form.\nAs you choose a time\, please be considerate and fill in available times as close as possible to an existing student to avoid gaps.
URL:http://suzukischools.org/events/recital-accompanying-westport-6/
LOCATION:Suzuki Music Schools Westport\, 246 Post Rd. East\, Westport\, 06880\, United States
CATEGORIES:Community,Event,School Calendar,Student Performances
END:VEVENT
BEGIN:VEVENT
DTSTART;TZID=America/New_York:20240505T120000
DTEND;TZID=America/New_York:20240505T183000
DTSTAMP:20260425T120820
CREATED:20230829T231145Z
LAST-MODIFIED:20240429T221104Z
UID:12960-1714910400-1714933800@suzukischools.org
SUMMARY:Student Recitals - Westport
DESCRIPTION:Student Recitals – Blake Recital Room\n \nToday’s recitals feature students from the studios of:\n4:30pm – Ms. Kumiko Imamura\nAccompaniment Booking
URL:http://suzukischools.org/events/student-recitals-westport-10/
LOCATION:Suzuki Music Schools Westport\, 246 Post Rd. East\, Westport\, 06880\, United States
CATEGORIES:Event,School Calendar,Student Performances
ATTACH;FMTTYPE=image/jpeg:http://suzukischools.org/wp-content/uploads/2021/09/pillow.jpg
END:VEVENT
BEGIN:VEVENT
DTSTART;TZID=America/New_York:20240504T123000
DTEND;TZID=America/New_York:20240504T133000
DTSTAMP:20260425T120820
CREATED:20240227T185650Z
LAST-MODIFIED:20240227T215328Z
UID:14533-1714825800-1714829400@suzukischools.org
SUMMARY:Performance Class
DESCRIPTION:Performance Class with Alexis Zingale\nPerformance Class is held on select Saturdays across the academic year. Alexis Zingale\, professional pianist\, SMS faculty and accompanist\, provides advice and help to students at every level from beginner to advanced on how to perform their pieces.\nIt’s a class but also an ‘open mic’ opportunity for students to try out their pieces in an informal environment. \nSpace is limited to 8 participants. Reserve your child’s time in the class through this link: https://form.jotform.com/240575185099163
URL:http://suzukischools.org/events/performance-class-may-2024/
LOCATION:Suzuki Music Schools Westport\, 246 Post Rd. East\, Westport\, 06880\, United States
CATEGORIES:Event,School Calendar,Student Performances
END:VEVENT
BEGIN:VEVENT
DTSTART;TZID=America/New_York:20240427T123000
DTEND;TZID=America/New_York:20240427T133000
DTSTAMP:20260425T120820
CREATED:20240408T214114Z
LAST-MODIFIED:20240408T214425Z
UID:14868-1714221000-1714224600@suzukischools.org
SUMMARY:Performance Class
DESCRIPTION:Performance Class with Alexis Zingale\nPerformance Class is held on select Saturdays across the academic year. Alexis Zingale\, professional pianist\, SMS faculty and accompanist\, provides advice and help to students at every level from beginner to advanced on how to perform their pieces.\nIt’s a class but also an ‘open mic’ opportunity for students to try out their pieces in an informal environment. \nSpace is limited to 8 participants. Reserve your child’s time in the class through this link: https://form.jotform.com/240986400377158
URL:http://suzukischools.org/events/performance-class-5/
LOCATION:Suzuki Music Schools Westport\, 246 Post Rd. East\, Westport\, 06880\, United States
CATEGORIES:Event,School Calendar,Student Performances
END:VEVENT
BEGIN:VEVENT
DTSTART;TZID=America/New_York:20240427T110000
DTEND;TZID=America/New_York:20240427T120000
DTSTAMP:20260425T120820
CREATED:20240402T183725Z
LAST-MODIFIED:20240402T183725Z
UID:14786-1714215600-1714219200@suzukischools.org
SUMMARY:Recital Accompanying - Westport
DESCRIPTION:Andrew Gordon is available to accompany students for the Westport Spring Recitals\nBook your time with Andrew Gordon using our booking form.\nAs you choose a time\, please be considerate and fill in available times as close as possible to an existing student to avoid gaps.
URL:http://suzukischools.org/events/recital-accompanying-westport-10/
LOCATION:Suzuki Music Schools Westport\, 246 Post Rd. East\, Westport\, 06880\, United States
CATEGORIES:Community,Event,School Calendar,Student Performances
END:VEVENT
BEGIN:VEVENT
DTSTART;VALUE=DATE:20240415
DTEND;VALUE=DATE:20240422
DTSTAMP:20260425T120820
CREATED:20230825T152209Z
LAST-MODIFIED:20230825T152209Z
UID:12838-1713139200-1713743999@suzukischools.org
SUMMARY:Spring Break - Both Campuses
DESCRIPTION:
URL:http://suzukischools.org/events/spring-break-2024/
LOCATION:Suzuki Music Schools Westport\, 246 Post Rd. East\, Westport\, 06880\, United States
CATEGORIES:School Calendar
END:VEVENT
BEGIN:VEVENT
DTSTART;TZID=America/New_York:20240407T150000
DTEND;TZID=America/New_York:20240407T160000
DTSTAMP:20260425T120820
CREATED:20230908T152434Z
LAST-MODIFIED:20240330T164419Z
UID:13126-1712502000-1712505600@suzukischools.org
SUMMARY:The Children's Pillow Concerts - Celebrates Westport
DESCRIPTION:The Children’s Pillow Concerts – Celebrates Local!\n \nJoin us for our informal children’s concerts series as we celebrate the amazing talent of renowned local artists.\nThe Suzuki Schools’ piano faculty come together to perfrom a special concert – featuring Igor Ferriera\, Alexis Zingale\, and Dr. Albert Lotto. \nBring a pillow and sit with the performers. ….suitable for children 4 and older all concerts last around 50 minutes.
URL:http://suzukischools.org/events/the-childrens-pillow-concerts-celebrates-westport-5/
LOCATION:Suzuki Music Schools Westport\, 246 Post Rd. East\, Westport\, 06880\, United States
CATEGORIES:Community,Da Capo Visiting Artist Series,Event,Faculty Performances,Pillow Concert Series,School Calendar
ATTACH;FMTTYPE=image/jpeg:http://suzukischools.org/wp-content/uploads/2021/01/piano-min.jpg
END:VEVENT
BEGIN:VEVENT
DTSTART;TZID=America/New_York:20240406T123000
DTEND;TZID=America/New_York:20240406T133000
DTSTAMP:20260425T120820
CREATED:20240227T184232Z
LAST-MODIFIED:20240227T215400Z
UID:14516-1712406600-1712410200@suzukischools.org
SUMMARY:Performance Class
DESCRIPTION:Performance Class with Alexis Zingale\nPerformance Class is held on select Saturdays across the academic year. Alexis Zingale\, professional pianist\, SMS faculty and accompanist\, provides advice and help to students at every level from beginner to advanced on how to perform their pieces.\nIt’s a class but also an ‘open mic’ opportunity for students to try out their pieces in an informal environment. \nSpace is limited to 8 participants. Reserve your child’s time in the class through this link: https://form.jotform.com/240575773421155
URL:http://suzukischools.org/events/performance-class-april-2024/
LOCATION:Suzuki Music Schools Westport\, 246 Post Rd. East\, Westport\, 06880\, United States
CATEGORIES:Event,School Calendar,Student Performances
END:VEVENT
BEGIN:VEVENT
DTSTART;TZID=America/New_York:20240309T123000
DTEND;TZID=America/New_York:20240309T133000
DTSTAMP:20260425T120820
CREATED:20240227T215228Z
LAST-MODIFIED:20240227T215257Z
UID:14539-1709987400-1709991000@suzukischools.org
SUMMARY:Performance Class
DESCRIPTION:Performance Class with Alexis Zingale\nPerformance Class is held on select Saturdays across the academic year. Alexis Zingale\, professional pianist\, SMS faculty and accompanist\, provides advice and help to students at every level from beginner to advanced on how to perform their pieces.\nIt’s a class but also an ‘open mic’ opportunity for students to try out their pieces in an informal environment. \nSpace is limited to 8 participants. Reserve your child’s time in the class through this link: https://form.jotform.com/240576742338159
URL:http://suzukischools.org/events/performance-class-march-2024/
LOCATION:Suzuki Music Schools Westport\, 246 Post Rd. East\, Westport\, 06880\, United States
CATEGORIES:Event,School Calendar,Student Performances
END:VEVENT
BEGIN:VEVENT
DTSTART;TZID=America/New_York:20240303T150000
DTEND;TZID=America/New_York:20240303T160000
DTSTAMP:20260425T120820
CREATED:20230908T151902Z
LAST-MODIFIED:20240208T015245Z
UID:13122-1709478000-1709481600@suzukischools.org
SUMMARY:The Children's Pillow Concerts - Celebrates Westport
DESCRIPTION:The Children’s Pillow Concerts – Celebrates Local!\n																														 \nAdmission Free – reserved ticket required\n\nJoin us for our informal children’s concerts series as we celebrate the amazing talent of renowned local artists.  \nFaculty Guitarist\, Dan Corr performs as part of the Connecticut Guitar Festival 2024. with host David Steinhardt \nBring a pillow and sit with the performers. ….suitable for children 4 and older all concerts last around 50 minutes.\n\n																														 \nDescribed by the Hartford Courant as “a guitarist for music lovers to catch”\, Seattle native Daniel Corr is active as a performing classical guitarist across North America and beyond. Highlights of his career include performances of major guitar concertos with the American Classical Orchestra of NYC\, the Waterbury Symphony\, Seattle Creative Orchestra at Benaroya Hall\, and with the Auburn Symphony. He has been a featured solo recitalist at universities such as Villanova\, UW Milwaukee\, UK Lexington\, MSU Bozeman\, and at the Beijing Central Conservatory.  \nDaniel’s musicianship and artistry have been recognized at guitar competitions including the 1st prize at the 12th Northwest Guitar Competition held at the University of Idaho\, a top prize at the SUNY-Potsdam Crane New Music Solo Performer Competition adjudicated by composer George Crumb. In 2006\, he was honored with the Certificate of Excellence from the Connecticut Academy of Arts and Sciences. \nDaniel is a graduate of the Yale School of Music and Cornish College of the Arts with three degrees in guitar performance\, where his principal teachers were Benjamin Verdery and Steven Novacek.As a guitar teacher\, he currently is on the faculties of CT State Community College and the Suzuki Music School of Westport\, where his students have won or placed several national guitar competitions over the years.
URL:http://suzukischools.org/events/the-childrens-pillow-concerts-celebrates-westport-4/
LOCATION:Suzuki Music Schools Westport\, 246 Post Rd. East\, Westport\, 06880\, United States
CATEGORIES:Community,Da Capo Visiting Artist Series,Event,Faculty Performances,Pillow Concert Series,School Calendar
END:VEVENT
BEGIN:VEVENT
DTSTART;VALUE=DATE:20240219
DTEND;VALUE=DATE:20240226
DTSTAMP:20260425T120820
CREATED:20230825T151939Z
LAST-MODIFIED:20230825T151939Z
UID:12836-1708300800-1708905599@suzukischools.org
SUMMARY:Winter Break - Both Campuses
DESCRIPTION:
URL:http://suzukischools.org/events/winter-break-2024/
LOCATION:Suzuki Music Schools Westport\, 246 Post Rd. East\, Westport\, 06880\, United States
CATEGORIES:School Calendar
END:VEVENT
BEGIN:VEVENT
DTSTART;TZID=America/New_York:20240211T150000
DTEND;TZID=America/New_York:20240211T160000
DTSTAMP:20260425T120820
CREATED:20230908T151624Z
LAST-MODIFIED:20240108T191810Z
UID:13118-1707663600-1707667200@suzukischools.org
SUMMARY:The Children's Pillow Concerts - Celebrates Westport
DESCRIPTION:The Children’s Pillow Concerts – Celebrates Local!\n																														 \n\nJoin us for our informal children’s concerts series as we celebrate the amazing talent of renowned local artists.  \nMusic for Flute\, Harp & Viola with Suzuki faculty Leslie Waddell and Sarah Smale – with guest artist Eilidh McRae. \nBring a pillow and sit with the performers. ….suitable for children 4 and older all concerts last around 50 minutes.
URL:http://suzukischools.org/events/the-childrens-pillow-concerts-celebrates-westport-3/
LOCATION:Suzuki Music Schools Westport\, 246 Post Rd. East\, Westport\, 06880\, United States
CATEGORIES:Community,Da Capo Visiting Artist Series,Event,Faculty Performances,Pillow Concert Series,School Calendar
ATTACH;FMTTYPE=image/jpeg:http://suzukischools.org/wp-content/uploads/2023/09/IMG_9307.jpg
END:VEVENT
BEGIN:VEVENT
DTSTART;VALUE=DATE:20240129
DTEND;VALUE=DATE:20240130
DTSTAMP:20260425T120820
CREATED:20230825T151621Z
LAST-MODIFIED:20230825T151621Z
UID:12834-1706486400-1706572799@suzukischools.org
SUMMARY:First Day of Spring Semester - Both Campuses
DESCRIPTION:
URL:http://suzukischools.org/events/first-day-of-spring-semester-2024/
LOCATION:Suzuki Music Schools Westport\, 246 Post Rd. East\, Westport\, 06880\, United States
CATEGORIES:School Calendar
END:VEVENT
BEGIN:VEVENT
DTSTART;VALUE=DATE:20240122
DTEND;VALUE=DATE:20240128
DTSTAMP:20260425T120820
CREATED:20230825T151521Z
LAST-MODIFIED:20230825T152532Z
UID:12832-1705881600-1706399999@suzukischools.org
SUMMARY:Make Up Week - Both Campuses
DESCRIPTION:
URL:http://suzukischools.org/events/makeup-week-fall-2023/
LOCATION:Suzuki Music Schools Westport\, 246 Post Rd. East\, Westport\, 06880\, United States
CATEGORIES:School Calendar
END:VEVENT
BEGIN:VEVENT
DTSTART;VALUE=DATE:20231223
DTEND;VALUE=DATE:20240106
DTSTAMP:20260425T120820
CREATED:20230825T151237Z
LAST-MODIFIED:20230825T151237Z
UID:12828-1703289600-1704499199@suzukischools.org
SUMMARY:Holiday Break - Westport Campus
DESCRIPTION:
URL:http://suzukischools.org/events/holiday-break-westport-2023/
LOCATION:Suzuki Music Schools Westport\, 246 Post Rd. East\, Westport\, 06880\, United States
CATEGORIES:School Calendar
END:VEVENT
BEGIN:VEVENT
DTSTART;TZID=America/New_York:20231219T183000
DTEND;TZID=America/New_York:20231219T193000
DTSTAMP:20260425T120820
CREATED:20231127T212148Z
LAST-MODIFIED:20231127T213049Z
UID:13895-1703010600-1703014200@suzukischools.org
SUMMARY:Prelude and Vivace Holiday Concert
DESCRIPTION:Join Prelude and Vivace in the Blake Recital Hall for an evening of holiday music and selections from their show. The event is free and open to all! Music will include Jingle Bells\, Secrets and Silent Night.
URL:http://suzukischools.org/events/pv-holiday-concert-23/
LOCATION:Suzuki Music Schools Westport\, 246 Post Rd. East\, Westport\, 06880\, United States
CATEGORIES:Event,School Calendar,Student Performances
ATTACH;FMTTYPE=image/jpeg:http://suzukischools.org/wp-content/uploads/2023/11/image002-scaled.jpg
END:VEVENT
BEGIN:VEVENT
DTSTART;VALUE=DATE:20231121
DTEND;VALUE=DATE:20231127
DTSTAMP:20260425T120820
CREATED:20230825T150944Z
LAST-MODIFIED:20230825T150944Z
UID:12824-1700524800-1701043199@suzukischools.org
SUMMARY:Thanksgiving Break - Westport Campus
DESCRIPTION:
URL:http://suzukischools.org/events/thanksgiving-break-westport-2023/
LOCATION:Suzuki Music Schools Westport\, 246 Post Rd. East\, Westport\, 06880\, United States
CATEGORIES:School Calendar
END:VEVENT
BEGIN:VEVENT
DTSTART;TZID=America/New_York:20231119T150000
DTEND;TZID=America/New_York:20231119T160000
DTSTAMP:20260425T120820
CREATED:20230908T151216Z
LAST-MODIFIED:20230913T180245Z
UID:13113-1700406000-1700409600@suzukischools.org
SUMMARY:The Children's Pillow Concerts - Celebrates Westport
DESCRIPTION:The Children’s Pillow Concerts – Celebrate Local!\n \nJoin us for our informal children’s concerts series as we celebrate the amazing talent of renowned local artists.\nQuatreStax\, with faculty cellist\, Andrea Mills and Executive Director\, Dr. Andrew\, perform Dvorak’s “American Quartet” \nBring a pillow and sit with the performers. ….suitable for children 4 and older all concerts last around 50 minutes. \n \nAndrew Smith\, Jaroslaw Lis\, violins\, Lu Friedman viola\, Andrea Mills cello
URL:http://suzukischools.org/events/the-childrens-pillow-concerts-celebrates-westport-2/
LOCATION:Suzuki Music Schools Westport\, 246 Post Rd. East\, Westport\, 06880\, United States
CATEGORIES:Community,Da Capo Visiting Artist Series,Event,Faculty Performances,Pillow Concert Series,School Calendar
ATTACH;FMTTYPE=image/jpeg:http://suzukischools.org/wp-content/uploads/2023/09/Pizzazz-Quartet-scaled.jpg
END:VEVENT
END:VCALENDAR