BEGIN:VCALENDAR
VERSION:2.0
PRODID:-//Suzuki Music Schools - ECPv6.15.20//NONSGML v1.0//EN
CALSCALE:GREGORIAN
METHOD:PUBLISH
X-WR-CALNAME:Suzuki Music Schools
X-ORIGINAL-URL:http://suzukischools.org
X-WR-CALDESC:Events for Suzuki Music Schools
REFRESH-INTERVAL;VALUE=DURATION:PT1H
X-Robots-Tag:noindex
X-PUBLISHED-TTL:PT1H
BEGIN:VTIMEZONE
TZID:America/New_York
BEGIN:DAYLIGHT
TZOFFSETFROM:-0500
TZOFFSETTO:-0400
TZNAME:EDT
DTSTART:20220313T070000
END:DAYLIGHT
BEGIN:STANDARD
TZOFFSETFROM:-0400
TZOFFSETTO:-0500
TZNAME:EST
DTSTART:20221106T060000
END:STANDARD
BEGIN:DAYLIGHT
TZOFFSETFROM:-0500
TZOFFSETTO:-0400
TZNAME:EDT
DTSTART:20230312T070000
END:DAYLIGHT
BEGIN:STANDARD
TZOFFSETFROM:-0400
TZOFFSETTO:-0500
TZNAME:EST
DTSTART:20231105T060000
END:STANDARD
BEGIN:DAYLIGHT
TZOFFSETFROM:-0500
TZOFFSETTO:-0400
TZNAME:EDT
DTSTART:20240310T070000
END:DAYLIGHT
BEGIN:STANDARD
TZOFFSETFROM:-0400
TZOFFSETTO:-0500
TZNAME:EST
DTSTART:20241103T060000
END:STANDARD
END:VTIMEZONE
BEGIN:VEVENT
DTSTART;VALUE=DATE:20230304
DTEND;VALUE=DATE:20230305
DTSTAMP:20260425T235828
CREATED:20230228T234537Z
LAST-MODIFIED:20230314T182902Z
UID:12000-1677888000-1677974399@suzukischools.org
SUMMARY:The Orange Ice Cream Practice Challenge Starts Today!
DESCRIPTION:Ready Set Go!!!!! You have 64 Days to practice 50 times. Get a challenge chart from your teacher and mark off the times you practice with you parents. If you can keep up the pace then your invited to our special ice cream party where faculty serve the students!
URL:http://suzukischools.org/events/the-orange-ice-cream-practice-challenge-starts-today/
LOCATION:Suzuki Music Schools Orange\, 480 Racebrook Road\, Orange\, CT\, 06477\, United States
CATEGORIES:School Calendar
END:VEVENT
END:VCALENDAR