BEGIN:VCALENDAR
VERSION:2.0
PRODID:-//Suzuki Music Schools - ECPv6.15.20//NONSGML v1.0//EN
CALSCALE:GREGORIAN
METHOD:PUBLISH
X-ORIGINAL-URL:http://suzukischools.org
X-WR-CALDESC:Events for Suzuki Music Schools
REFRESH-INTERVAL;VALUE=DURATION:PT1H
X-Robots-Tag:noindex
X-PUBLISHED-TTL:PT1H
BEGIN:VTIMEZONE
TZID:America/New_York
BEGIN:DAYLIGHT
TZOFFSETFROM:-0500
TZOFFSETTO:-0400
TZNAME:EDT
DTSTART:20240310T070000
END:DAYLIGHT
BEGIN:STANDARD
TZOFFSETFROM:-0400
TZOFFSETTO:-0500
TZNAME:EST
DTSTART:20241103T060000
END:STANDARD
BEGIN:DAYLIGHT
TZOFFSETFROM:-0500
TZOFFSETTO:-0400
TZNAME:EDT
DTSTART:20250309T070000
END:DAYLIGHT
BEGIN:STANDARD
TZOFFSETFROM:-0400
TZOFFSETTO:-0500
TZNAME:EST
DTSTART:20251102T060000
END:STANDARD
BEGIN:DAYLIGHT
TZOFFSETFROM:-0500
TZOFFSETTO:-0400
TZNAME:EDT
DTSTART:20260308T070000
END:DAYLIGHT
BEGIN:STANDARD
TZOFFSETFROM:-0400
TZOFFSETTO:-0500
TZNAME:EST
DTSTART:20261101T060000
END:STANDARD
END:VTIMEZONE
BEGIN:VEVENT
DTSTART;TZID=America/New_York:20251206T123000
DTEND;TZID=America/New_York:20251206T133000
DTSTAMP:20260419T155536
CREATED:20250903T213451Z
LAST-MODIFIED:20250903T213518Z
UID:18225-1765024200-1765027800@suzukischools.org
SUMMARY:Performance Class
DESCRIPTION:Back-to-School Family Music Camp				\n				\n				\n				\n									A gentle and joyful music experience for young children and their caregivers during the first days of the school year.Each morning includes farm-themed singing\, movement\, movement\, rhythm\, play\, and a simple storytime\, all rooted in Suzuki Early Childhood Education principles and designed to support connection\, confidence\, and musical growth.Set in the beauty of the farm\, the experience also includes a short\, guided opportunity to visit the animals or explore the gardens\, along with a simple snack and craft each day.As older siblings return to school\, this program offers younger children a special place of their own—a peaceful and engaging way to begin the school year.Ages 1–4 (with caregiver; infant siblings welcome at no charge)Tuesday through Friday 10-11:30amCost: $270Wakeman Town Farm: 134 Cross Highway\, Westport CT								\n				\n				\n				\n									\n					\n						\n									ENROLL
URL:http://suzukischools.org/events/performance-class-december-2025/
LOCATION:Suzuki Music Schools Westport\, 246 Post Rd. East\, Westport\, 06880\, United States
CATEGORIES:Event,School Calendar,Student Performances
ATTACH;FMTTYPE=image/jpeg:http://suzukischools.org/wp-content/uploads/2024/04/Violin-recital-photo.jpeg
END:VEVENT
BEGIN:VEVENT
DTSTART;TZID=America/New_York:20251209T181500
DTEND;TZID=America/New_York:20251209T190000
DTSTAMP:20260419T155537
CREATED:20251103T212143Z
LAST-MODIFIED:20251103T212237Z
UID:18767-1765304100-1765306800@suzukischools.org
SUMMARY:Prelude Holiday Concert
DESCRIPTION:Back-to-School Family Music Camp				\n				\n				\n				\n									A gentle and joyful music experience for young children and their caregivers during the first days of the school year.Each morning includes farm-themed singing\, movement\, movement\, rhythm\, play\, and a simple storytime\, all rooted in Suzuki Early Childhood Education principles and designed to support connection\, confidence\, and musical growth.Set in the beauty of the farm\, the experience also includes a short\, guided opportunity to visit the animals or explore the gardens\, along with a simple snack and craft each day.As older siblings return to school\, this program offers younger children a special place of their own—a peaceful and engaging way to begin the school year.Ages 1–4 (with caregiver; infant siblings welcome at no charge)Tuesday through Friday 10-11:30amCost: $270Wakeman Town Farm: 134 Cross Highway\, Westport CT								\n				\n				\n				\n									\n					\n						\n									ENROLL
URL:http://suzukischools.org/events/prelude-holiday-concert-fa25/
LOCATION:Suzuki Music Schools Westport\, 246 Post Rd. East\, Westport\, 06880\, United States
CATEGORIES:Event,School Calendar,Student Performances
ATTACH;FMTTYPE=image/jpeg:http://suzukischools.org/wp-content/uploads/2025/11/Prelude-Holiday-Concert-FA24-scaled.jpg
END:VEVENT
BEGIN:VEVENT
DTSTART;TZID=America/New_York:20251213T130000
DTEND;TZID=America/New_York:20251213T143000
DTSTAMP:20260419T155537
CREATED:20250730T142837Z
LAST-MODIFIED:20251208T223742Z
UID:18065-1765630800-1765636200@suzukischools.org
SUMMARY:SMSO Piano Holiday Performance - Woodbridge Library
DESCRIPTION:Back-to-School Family Music Camp				\n				\n				\n				\n									A gentle and joyful music experience for young children and their caregivers during the first days of the school year.Each morning includes farm-themed singing\, movement\, movement\, rhythm\, play\, and a simple storytime\, all rooted in Suzuki Early Childhood Education principles and designed to support connection\, confidence\, and musical growth.Set in the beauty of the farm\, the experience also includes a short\, guided opportunity to visit the animals or explore the gardens\, along with a simple snack and craft each day.As older siblings return to school\, this program offers younger children a special place of their own—a peaceful and engaging way to begin the school year.Ages 1–4 (with caregiver; infant siblings welcome at no charge)Tuesday through Friday 10-11:30amCost: $270Wakeman Town Farm: 134 Cross Highway\, Westport CT								\n				\n				\n				\n									\n					\n						\n									ENROLL
URL:http://suzukischools.org/events/smso-piano-holiday-performance-2025/
LOCATION:Woodbridge Town Library\, 10 Newton Rd\, Woodbridge\, CT\, 06525\, United States
CATEGORIES:Community,Event,School Calendar,Student Performances
ATTACH;FMTTYPE=image/jpeg:http://suzukischools.org/wp-content/uploads/2025/07/Holiday-piano-stock-photo.jpeg
END:VEVENT
BEGIN:VEVENT
DTSTART;TZID=America/New_York:20251217T180000
DTEND;TZID=America/New_York:20251217T190000
DTSTAMP:20260419T155537
CREATED:20250723T214944Z
LAST-MODIFIED:20251208T223509Z
UID:18031-1765994400-1765998000@suzukischools.org
SUMMARY:Cookies and Cocoa with the SMSO Strings
DESCRIPTION:Back-to-School Family Music Camp				\n				\n				\n				\n									A gentle and joyful music experience for young children and their caregivers during the first days of the school year.Each morning includes farm-themed singing\, movement\, movement\, rhythm\, play\, and a simple storytime\, all rooted in Suzuki Early Childhood Education principles and designed to support connection\, confidence\, and musical growth.Set in the beauty of the farm\, the experience also includes a short\, guided opportunity to visit the animals or explore the gardens\, along with a simple snack and craft each day.As older siblings return to school\, this program offers younger children a special place of their own—a peaceful and engaging way to begin the school year.Ages 1–4 (with caregiver; infant siblings welcome at no charge)Tuesday through Friday 10-11:30amCost: $270Wakeman Town Farm: 134 Cross Highway\, Westport CT								\n				\n				\n				\n									\n					\n						\n									ENROLL
URL:http://suzukischools.org/events/smso-holiday-performance-milford-library-2025/
LOCATION:Milford Public Library\, 57 New Haven Ave.\, Milford\, CT\, 06460\, United States
CATEGORIES:Community,Event,School Calendar,Student Performances
ATTACH;FMTTYPE=image/jpeg:http://suzukischools.org/wp-content/uploads/2023/10/SMSO-Holiday-Performance-23-scaled.jpg
END:VEVENT
BEGIN:VEVENT
DTSTART;TZID=America/New_York:20251220T100000
DTEND;TZID=America/New_York:20251220T110000
DTSTAMP:20260419T155537
CREATED:20251208T204548Z
LAST-MODIFIED:20251208T204658Z
UID:19069-1766224800-1766228400@suzukischools.org
SUMMARY:Strings Holiday Play Along!
DESCRIPTION:Back-to-School Family Music Camp				\n				\n				\n				\n									A gentle and joyful music experience for young children and their caregivers during the first days of the school year.Each morning includes farm-themed singing\, movement\, movement\, rhythm\, play\, and a simple storytime\, all rooted in Suzuki Early Childhood Education principles and designed to support connection\, confidence\, and musical growth.Set in the beauty of the farm\, the experience also includes a short\, guided opportunity to visit the animals or explore the gardens\, along with a simple snack and craft each day.As older siblings return to school\, this program offers younger children a special place of their own—a peaceful and engaging way to begin the school year.Ages 1–4 (with caregiver; infant siblings welcome at no charge)Tuesday through Friday 10-11:30amCost: $270Wakeman Town Farm: 134 Cross Highway\, Westport CT								\n				\n				\n				\n									\n					\n						\n									ENROLL
URL:http://suzukischools.org/events/strings-holiday-play-along-2025/
LOCATION:Suzuki Music Schools Westport\, 246 Post Rd. East\, Westport\, 06880\, United States
CATEGORIES:Event,School Calendar,Student Performances
ATTACH;FMTTYPE=image/jpeg:http://suzukischools.org/wp-content/uploads/2025/12/IMG_7959-scaled.jpg
END:VEVENT
END:VCALENDAR