BEGIN:VCALENDAR
VERSION:2.0
PRODID:-//Suzuki Music Schools - ECPv6.15.20//NONSGML v1.0//EN
CALSCALE:GREGORIAN
METHOD:PUBLISH
X-ORIGINAL-URL:http://suzukischools.org
X-WR-CALDESC:Events for Suzuki Music Schools
REFRESH-INTERVAL;VALUE=DURATION:PT1H
X-Robots-Tag:noindex
X-PUBLISHED-TTL:PT1H
BEGIN:VTIMEZONE
TZID:America/New_York
BEGIN:DAYLIGHT
TZOFFSETFROM:-0500
TZOFFSETTO:-0400
TZNAME:EDT
DTSTART:20240310T070000
END:DAYLIGHT
BEGIN:STANDARD
TZOFFSETFROM:-0400
TZOFFSETTO:-0500
TZNAME:EST
DTSTART:20241103T060000
END:STANDARD
BEGIN:DAYLIGHT
TZOFFSETFROM:-0500
TZOFFSETTO:-0400
TZNAME:EDT
DTSTART:20250309T070000
END:DAYLIGHT
BEGIN:STANDARD
TZOFFSETFROM:-0400
TZOFFSETTO:-0500
TZNAME:EST
DTSTART:20251102T060000
END:STANDARD
BEGIN:DAYLIGHT
TZOFFSETFROM:-0500
TZOFFSETTO:-0400
TZNAME:EDT
DTSTART:20260308T070000
END:DAYLIGHT
BEGIN:STANDARD
TZOFFSETFROM:-0400
TZOFFSETTO:-0500
TZNAME:EST
DTSTART:20261101T060000
END:STANDARD
END:VTIMEZONE
BEGIN:VEVENT
DTSTART;TZID=America/New_York:20251011T123000
DTEND;TZID=America/New_York:20251011T133000
DTSTAMP:20260419T194431
CREATED:20250903T213155Z
LAST-MODIFIED:20250903T213222Z
UID:18227-1760185800-1760189400@suzukischools.org
SUMMARY:Performance Class
DESCRIPTION:Back-to-School Family Music Camp				\n				\n				\n				\n									A gentle and joyful music experience for young children and their caregivers during the first days of the school year.Each morning includes farm-themed singing\, movement\, movement\, rhythm\, play\, and a simple storytime\, all rooted in Suzuki Early Childhood Education principles and designed to support connection\, confidence\, and musical growth.Set in the beauty of the farm\, the experience also includes a short\, guided opportunity to visit the animals or explore the gardens\, along with a simple snack and craft each day.As older siblings return to school\, this program offers younger children a special place of their own—a peaceful and engaging way to begin the school year.Ages 1–4 (with caregiver; infant siblings welcome at no charge)Tuesday through Friday 10-11:30amCost: $270Wakeman Town Farm: 134 Cross Highway\, Westport CT								\n				\n				\n				\n									\n					\n						\n									ENROLL
URL:http://suzukischools.org/events/performance-class-october-2025/
LOCATION:Suzuki Music Schools Westport\, 246 Post Rd. East\, Westport\, 06880\, United States
CATEGORIES:Event,School Calendar,Student Performances
ATTACH;FMTTYPE=image/jpeg:http://suzukischools.org/wp-content/uploads/2024/04/Violin-recital-photo.jpeg
END:VEVENT
BEGIN:VEVENT
DTSTART;TZID=America/New_York:20251025T143000
DTEND;TZID=America/New_York:20251025T160000
DTSTAMP:20260419T194431
CREATED:20251015T202330Z
LAST-MODIFIED:20251015T203026Z
UID:18626-1761402600-1761408000@suzukischools.org
SUMMARY:Pianoween
DESCRIPTION:Back-to-School Family Music Camp				\n				\n				\n				\n									A gentle and joyful music experience for young children and their caregivers during the first days of the school year.Each morning includes farm-themed singing\, movement\, movement\, rhythm\, play\, and a simple storytime\, all rooted in Suzuki Early Childhood Education principles and designed to support connection\, confidence\, and musical growth.Set in the beauty of the farm\, the experience also includes a short\, guided opportunity to visit the animals or explore the gardens\, along with a simple snack and craft each day.As older siblings return to school\, this program offers younger children a special place of their own—a peaceful and engaging way to begin the school year.Ages 1–4 (with caregiver; infant siblings welcome at no charge)Tuesday through Friday 10-11:30amCost: $270Wakeman Town Farm: 134 Cross Highway\, Westport CT								\n				\n				\n				\n									\n					\n						\n									ENROLL
URL:http://suzukischools.org/events/pianoween-2025/
LOCATION:Suzuki Music Schools Westport\, 246 Post Rd. East\, Westport\, 06880\, United States
CATEGORIES:Event,School Calendar,Student Performances
ATTACH;FMTTYPE=image/jpeg:http://suzukischools.org/wp-content/uploads/2021/01/piano-min.jpg
END:VEVENT
BEGIN:VEVENT
DTSTART;TZID=America/New_York:20251026T123000
DTEND;TZID=America/New_York:20251026T193000
DTSTAMP:20260419T194431
CREATED:20251013T153949Z
LAST-MODIFIED:20251013T154024Z
UID:18575-1761481800-1761507000@suzukischools.org
SUMMARY:Westport Recital Accompanying - Alexis Zingale
DESCRIPTION:Back-to-School Family Music Camp				\n				\n				\n				\n									A gentle and joyful music experience for young children and their caregivers during the first days of the school year.Each morning includes farm-themed singing\, movement\, movement\, rhythm\, play\, and a simple storytime\, all rooted in Suzuki Early Childhood Education principles and designed to support connection\, confidence\, and musical growth.Set in the beauty of the farm\, the experience also includes a short\, guided opportunity to visit the animals or explore the gardens\, along with a simple snack and craft each day.As older siblings return to school\, this program offers younger children a special place of their own—a peaceful and engaging way to begin the school year.Ages 1–4 (with caregiver; infant siblings welcome at no charge)Tuesday through Friday 10-11:30amCost: $270Wakeman Town Farm: 134 Cross Highway\, Westport CT								\n				\n				\n				\n									\n					\n						\n									ENROLL
URL:http://suzukischools.org/events/westport-recital-accompanying-alexis-zingale-102625/
LOCATION:Suzuki Music Schools Westport\, 246 Post Rd. East\, Westport\, 06880\, United States
CATEGORIES:Community,Event,School Calendar,Student Performances
END:VEVENT
BEGIN:VEVENT
DTSTART;TZID=America/New_York:20251026T133000
DTEND;TZID=America/New_York:20251026T163000
DTSTAMP:20260419T194431
CREATED:20250904T194626Z
LAST-MODIFIED:20251002T175927Z
UID:18245-1761485400-1761496200@suzukischools.org
SUMMARY:Spooky Suzuki Concert & Fair @ Gilbertie's Herb & Garden Center
DESCRIPTION:Back-to-School Family Music Camp				\n				\n				\n				\n									A gentle and joyful music experience for young children and their caregivers during the first days of the school year.Each morning includes farm-themed singing\, movement\, movement\, rhythm\, play\, and a simple storytime\, all rooted in Suzuki Early Childhood Education principles and designed to support connection\, confidence\, and musical growth.Set in the beauty of the farm\, the experience also includes a short\, guided opportunity to visit the animals or explore the gardens\, along with a simple snack and craft each day.As older siblings return to school\, this program offers younger children a special place of their own—a peaceful and engaging way to begin the school year.Ages 1–4 (with caregiver; infant siblings welcome at no charge)Tuesday through Friday 10-11:30amCost: $270Wakeman Town Farm: 134 Cross Highway\, Westport CT								\n				\n				\n				\n									\n					\n						\n									ENROLL
URL:http://suzukischools.org/events/spooky-suzuki-2025/
LOCATION:Gilbertie’s Herb and Garden Center\, 7 Sylvan Lane\, Westport\, CT\, 06880\, United States
CATEGORIES:Community,Event,School Calendar,Student Performances
ATTACH;FMTTYPE=image/jpeg:http://suzukischools.org/wp-content/uploads/2025/09/Gilberties-Logo-updated-2024-scaled.jpg
END:VEVENT
BEGIN:VEVENT
DTSTART;TZID=America/New_York:20251031T143000
DTEND;TZID=America/New_York:20251031T210000
DTSTAMP:20260419T194431
CREATED:20251013T154110Z
LAST-MODIFIED:20251013T154155Z
UID:18576-1761921000-1761944400@suzukischools.org
SUMMARY:Westport Recital Accompanying - Alexis Zingale
DESCRIPTION:Back-to-School Family Music Camp				\n				\n				\n				\n									A gentle and joyful music experience for young children and their caregivers during the first days of the school year.Each morning includes farm-themed singing\, movement\, movement\, rhythm\, play\, and a simple storytime\, all rooted in Suzuki Early Childhood Education principles and designed to support connection\, confidence\, and musical growth.Set in the beauty of the farm\, the experience also includes a short\, guided opportunity to visit the animals or explore the gardens\, along with a simple snack and craft each day.As older siblings return to school\, this program offers younger children a special place of their own—a peaceful and engaging way to begin the school year.Ages 1–4 (with caregiver; infant siblings welcome at no charge)Tuesday through Friday 10-11:30amCost: $270Wakeman Town Farm: 134 Cross Highway\, Westport CT								\n				\n				\n				\n									\n					\n						\n									ENROLL
URL:http://suzukischools.org/events/westport-recital-accompanying-alexis-zingale-103125/
LOCATION:Suzuki Music Schools Westport\, 246 Post Rd. East\, Westport\, 06880\, United States
CATEGORIES:Community,Event,School Calendar,Student Performances
END:VEVENT
END:VCALENDAR