BEGIN:VCALENDAR
VERSION:2.0
PRODID:-//Suzuki Music Schools - ECPv6.15.20//NONSGML v1.0//EN
CALSCALE:GREGORIAN
METHOD:PUBLISH
X-WR-CALNAME:Suzuki Music Schools
X-ORIGINAL-URL:http://suzukischools.org
X-WR-CALDESC:Events for Suzuki Music Schools
REFRESH-INTERVAL;VALUE=DURATION:PT1H
X-Robots-Tag:noindex
X-PUBLISHED-TTL:PT1H
BEGIN:VTIMEZONE
TZID:America/New_York
BEGIN:DAYLIGHT
TZOFFSETFROM:-0500
TZOFFSETTO:-0400
TZNAME:EDT
DTSTART:20210314T070000
END:DAYLIGHT
BEGIN:STANDARD
TZOFFSETFROM:-0400
TZOFFSETTO:-0500
TZNAME:EST
DTSTART:20211107T060000
END:STANDARD
BEGIN:DAYLIGHT
TZOFFSETFROM:-0500
TZOFFSETTO:-0400
TZNAME:EDT
DTSTART:20220313T070000
END:DAYLIGHT
BEGIN:STANDARD
TZOFFSETFROM:-0400
TZOFFSETTO:-0500
TZNAME:EST
DTSTART:20221106T060000
END:STANDARD
BEGIN:DAYLIGHT
TZOFFSETFROM:-0500
TZOFFSETTO:-0400
TZNAME:EDT
DTSTART:20230312T070000
END:DAYLIGHT
BEGIN:STANDARD
TZOFFSETFROM:-0400
TZOFFSETTO:-0500
TZNAME:EST
DTSTART:20231105T060000
END:STANDARD
END:VTIMEZONE
BEGIN:VEVENT
DTSTART;TZID=America/New_York:20221105T140000
DTEND;TZID=America/New_York:20221105T150000
DTSTAMP:20260424T001556
CREATED:20220830T153010Z
LAST-MODIFIED:20220830T153531Z
UID:10038-1667656800-1667660400@suzukischools.org
SUMMARY:Bagels & Bach
DESCRIPTION:Back-to-School Family Music Camp				\n				\n				\n				\n									A gentle and joyful music experience for young children and their caregivers during the first days of the school year.Each morning includes farm-themed singing\, movement\, movement\, rhythm\, play\, and a simple storytime\, all rooted in Suzuki Early Childhood Education principles and designed to support connection\, confidence\, and musical growth.Set in the beauty of the farm\, the experience also includes a short\, guided opportunity to visit the animals or explore the gardens\, along with a simple snack and craft each day.As older siblings return to school\, this program offers younger children a special place of their own—a peaceful and engaging way to begin the school year.Ages 1–4 (with caregiver; infant siblings welcome at no charge)Tuesday through Friday 10-11:30amCost: $270Wakeman Town Farm: 134 Cross Highway\, Westport CT								\n				\n				\n				\n									\n					\n						\n									ENROLL
URL:http://suzukischools.org/events/bagels-bach/
LOCATION:Sunrise Senior Living\, Wilton\, 211 Danbury Road\, Wilton\, CT\, 06897\, United States
CATEGORIES:Community,Event,School Calendar,Student Performances
ATTACH;FMTTYPE=image/jpeg:http://suzukischools.org/wp-content/uploads/2022/08/SSL_WILTON_CMYK.jpg
END:VEVENT
BEGIN:VEVENT
DTSTART;TZID=America/New_York:20221105T140000
DTEND;TZID=America/New_York:20221105T180000
DTSTAMP:20260424T001556
CREATED:20220830T212608Z
LAST-MODIFIED:20221021T031920Z
UID:10182-1667656800-1667671200@suzukischools.org
SUMMARY:Student Recitals - Westport
DESCRIPTION:Back-to-School Family Music Camp				\n				\n				\n				\n									A gentle and joyful music experience for young children and their caregivers during the first days of the school year.Each morning includes farm-themed singing\, movement\, movement\, rhythm\, play\, and a simple storytime\, all rooted in Suzuki Early Childhood Education principles and designed to support connection\, confidence\, and musical growth.Set in the beauty of the farm\, the experience also includes a short\, guided opportunity to visit the animals or explore the gardens\, along with a simple snack and craft each day.As older siblings return to school\, this program offers younger children a special place of their own—a peaceful and engaging way to begin the school year.Ages 1–4 (with caregiver; infant siblings welcome at no charge)Tuesday through Friday 10-11:30amCost: $270Wakeman Town Farm: 134 Cross Highway\, Westport CT								\n				\n				\n				\n									\n					\n						\n									ENROLL
URL:http://suzukischools.org/events/student-recitals-7/
LOCATION:Suzuki Music Schools Westport\, 246 Post Rd. East\, Westport\, 06880\, United States
CATEGORIES:Event,School Calendar,Student Performances
END:VEVENT
BEGIN:VEVENT
DTSTART;TZID=America/New_York:20221106T140000
DTEND;TZID=America/New_York:20221106T183000
DTSTAMP:20260424T001556
CREATED:20220830T213224Z
LAST-MODIFIED:20221021T034025Z
UID:10196-1667743200-1667759400@suzukischools.org
SUMMARY:Student Recitals - Westport
DESCRIPTION:Back-to-School Family Music Camp				\n				\n				\n				\n									A gentle and joyful music experience for young children and their caregivers during the first days of the school year.Each morning includes farm-themed singing\, movement\, movement\, rhythm\, play\, and a simple storytime\, all rooted in Suzuki Early Childhood Education principles and designed to support connection\, confidence\, and musical growth.Set in the beauty of the farm\, the experience also includes a short\, guided opportunity to visit the animals or explore the gardens\, along with a simple snack and craft each day.As older siblings return to school\, this program offers younger children a special place of their own—a peaceful and engaging way to begin the school year.Ages 1–4 (with caregiver; infant siblings welcome at no charge)Tuesday through Friday 10-11:30amCost: $270Wakeman Town Farm: 134 Cross Highway\, Westport CT								\n				\n				\n				\n									\n					\n						\n									ENROLL
URL:http://suzukischools.org/events/student-recitals-8/
LOCATION:Suzuki Music Schools Westport\, 246 Post Rd. East\, Westport\, 06880\, United States
CATEGORIES:School Calendar,Student Performances
END:VEVENT
BEGIN:VEVENT
DTSTART;TZID=America/New_York:20221112T140000
DTEND;TZID=America/New_York:20221112T183000
DTSTAMP:20260424T001556
CREATED:20220830T215942Z
LAST-MODIFIED:20230418T192122Z
UID:10205-1668261600-1668277800@suzukischools.org
SUMMARY:Student Recitals - Westport
DESCRIPTION:Back-to-School Family Music Camp				\n				\n				\n				\n									A gentle and joyful music experience for young children and their caregivers during the first days of the school year.Each morning includes farm-themed singing\, movement\, movement\, rhythm\, play\, and a simple storytime\, all rooted in Suzuki Early Childhood Education principles and designed to support connection\, confidence\, and musical growth.Set in the beauty of the farm\, the experience also includes a short\, guided opportunity to visit the animals or explore the gardens\, along with a simple snack and craft each day.As older siblings return to school\, this program offers younger children a special place of their own—a peaceful and engaging way to begin the school year.Ages 1–4 (with caregiver; infant siblings welcome at no charge)Tuesday through Friday 10-11:30amCost: $270Wakeman Town Farm: 134 Cross Highway\, Westport CT								\n				\n				\n				\n									\n					\n						\n									ENROLL
URL:http://suzukischools.org/events/student-recitals-9/
LOCATION:Suzuki Music Schools Westport\, 246 Post Rd. East\, Westport\, 06880\, United States
CATEGORIES:School Calendar,Student Performances
END:VEVENT
BEGIN:VEVENT
DTSTART;TZID=America/New_York:20221119T133000
DTEND;TZID=America/New_York:20221119T180000
DTSTAMP:20260424T001556
CREATED:20220830T220709Z
LAST-MODIFIED:20221021T035503Z
UID:10221-1668864600-1668880800@suzukischools.org
SUMMARY:Student Recitals - Orange
DESCRIPTION:Back-to-School Family Music Camp				\n				\n				\n				\n									A gentle and joyful music experience for young children and their caregivers during the first days of the school year.Each morning includes farm-themed singing\, movement\, movement\, rhythm\, play\, and a simple storytime\, all rooted in Suzuki Early Childhood Education principles and designed to support connection\, confidence\, and musical growth.Set in the beauty of the farm\, the experience also includes a short\, guided opportunity to visit the animals or explore the gardens\, along with a simple snack and craft each day.As older siblings return to school\, this program offers younger children a special place of their own—a peaceful and engaging way to begin the school year.Ages 1–4 (with caregiver; infant siblings welcome at no charge)Tuesday through Friday 10-11:30amCost: $270Wakeman Town Farm: 134 Cross Highway\, Westport CT								\n				\n				\n				\n									\n					\n						\n									ENROLL
URL:http://suzukischools.org/events/student-recitals-11/
LOCATION:Suzuki Music Schools Orange\, 480 Racebrook Road\, Orange\, CT\, 06477\, United States
CATEGORIES:School Calendar,Student Performances
END:VEVENT
BEGIN:VEVENT
DTSTART;TZID=America/New_York:20221119T140000
DTEND;TZID=America/New_York:20221119T183000
DTSTAMP:20260424T001556
CREATED:20220830T220348Z
LAST-MODIFIED:20221021T032949Z
UID:10212-1668866400-1668882600@suzukischools.org
SUMMARY:Student Recitals - Westport
DESCRIPTION:Back-to-School Family Music Camp				\n				\n				\n				\n									A gentle and joyful music experience for young children and their caregivers during the first days of the school year.Each morning includes farm-themed singing\, movement\, movement\, rhythm\, play\, and a simple storytime\, all rooted in Suzuki Early Childhood Education principles and designed to support connection\, confidence\, and musical growth.Set in the beauty of the farm\, the experience also includes a short\, guided opportunity to visit the animals or explore the gardens\, along with a simple snack and craft each day.As older siblings return to school\, this program offers younger children a special place of their own—a peaceful and engaging way to begin the school year.Ages 1–4 (with caregiver; infant siblings welcome at no charge)Tuesday through Friday 10-11:30amCost: $270Wakeman Town Farm: 134 Cross Highway\, Westport CT								\n				\n				\n				\n									\n					\n						\n									ENROLL
URL:http://suzukischools.org/events/student-recitals-10/
LOCATION:Suzuki Music Schools Westport\, 246 Post Rd. East\, Westport\, 06880\, United States
CATEGORIES:School Calendar,Student Performances
END:VEVENT
BEGIN:VEVENT
DTSTART;TZID=America/New_York:20221120T133000
DTEND;TZID=America/New_York:20221120T180000
DTSTAMP:20260424T001556
CREATED:20220830T221029Z
LAST-MODIFIED:20221114T223657Z
UID:10227-1668951000-1668967200@suzukischools.org
SUMMARY:Student Recitals - Orange
DESCRIPTION:Back-to-School Family Music Camp				\n				\n				\n				\n									A gentle and joyful music experience for young children and their caregivers during the first days of the school year.Each morning includes farm-themed singing\, movement\, movement\, rhythm\, play\, and a simple storytime\, all rooted in Suzuki Early Childhood Education principles and designed to support connection\, confidence\, and musical growth.Set in the beauty of the farm\, the experience also includes a short\, guided opportunity to visit the animals or explore the gardens\, along with a simple snack and craft each day.As older siblings return to school\, this program offers younger children a special place of their own—a peaceful and engaging way to begin the school year.Ages 1–4 (with caregiver; infant siblings welcome at no charge)Tuesday through Friday 10-11:30amCost: $270Wakeman Town Farm: 134 Cross Highway\, Westport CT								\n				\n				\n				\n									\n					\n						\n									ENROLL
URL:http://suzukischools.org/events/student-recitals-12/
LOCATION:Suzuki Music Schools Orange\, 480 Racebrook Road\, Orange\, CT\, 06477\, United States
CATEGORIES:School Calendar,Student Performances
END:VEVENT
BEGIN:VEVENT
DTSTART;TZID=America/New_York:20221120T140000
DTEND;TZID=America/New_York:20221120T183000
DTSTAMP:20260424T001556
CREATED:20220906T203824Z
LAST-MODIFIED:20221021T034221Z
UID:10469-1668952800-1668969000@suzukischools.org
SUMMARY:Student Recitals - Westport
DESCRIPTION:Back-to-School Family Music Camp				\n				\n				\n				\n									A gentle and joyful music experience for young children and their caregivers during the first days of the school year.Each morning includes farm-themed singing\, movement\, movement\, rhythm\, play\, and a simple storytime\, all rooted in Suzuki Early Childhood Education principles and designed to support connection\, confidence\, and musical growth.Set in the beauty of the farm\, the experience also includes a short\, guided opportunity to visit the animals or explore the gardens\, along with a simple snack and craft each day.As older siblings return to school\, this program offers younger children a special place of their own—a peaceful and engaging way to begin the school year.Ages 1–4 (with caregiver; infant siblings welcome at no charge)Tuesday through Friday 10-11:30amCost: $270Wakeman Town Farm: 134 Cross Highway\, Westport CT								\n				\n				\n				\n									\n					\n						\n									ENROLL
URL:http://suzukischools.org/events/student-recitals-westport-3/
LOCATION:Suzuki Music Schools Westport\, 246 Post Rd. East\, Westport\, 06880\, United States
CATEGORIES:School Calendar,Student Performances
END:VEVENT
END:VCALENDAR