BEGIN:VCALENDAR
VERSION:2.0
PRODID:-//Suzuki Music Schools - ECPv6.15.20//NONSGML v1.0//EN
CALSCALE:GREGORIAN
METHOD:PUBLISH
X-WR-CALNAME:Suzuki Music Schools
X-ORIGINAL-URL:http://suzukischools.org
X-WR-CALDESC:Events for Suzuki Music Schools
REFRESH-INTERVAL;VALUE=DURATION:PT1H
X-Robots-Tag:noindex
X-PUBLISHED-TTL:PT1H
BEGIN:VTIMEZONE
TZID:America/New_York
BEGIN:DAYLIGHT
TZOFFSETFROM:-0500
TZOFFSETTO:-0400
TZNAME:EDT
DTSTART:20200308T070000
END:DAYLIGHT
BEGIN:STANDARD
TZOFFSETFROM:-0400
TZOFFSETTO:-0500
TZNAME:EST
DTSTART:20201101T060000
END:STANDARD
BEGIN:DAYLIGHT
TZOFFSETFROM:-0500
TZOFFSETTO:-0400
TZNAME:EDT
DTSTART:20210314T070000
END:DAYLIGHT
BEGIN:STANDARD
TZOFFSETFROM:-0400
TZOFFSETTO:-0500
TZNAME:EST
DTSTART:20211107T060000
END:STANDARD
BEGIN:DAYLIGHT
TZOFFSETFROM:-0500
TZOFFSETTO:-0400
TZNAME:EDT
DTSTART:20220313T070000
END:DAYLIGHT
BEGIN:STANDARD
TZOFFSETFROM:-0400
TZOFFSETTO:-0500
TZNAME:EST
DTSTART:20221106T060000
END:STANDARD
END:VTIMEZONE
BEGIN:VEVENT
DTSTART;TZID=America/New_York:20210425T150000
DTEND;TZID=America/New_York:20210425T160000
DTSTAMP:20260422T065831
CREATED:20210128T140209Z
LAST-MODIFIED:20211005T051858Z
UID:3951-1619362800-1619366400@suzukischools.org
SUMMARY:Pillow Concert\, Zara Lawler\, flutist
DESCRIPTION:
URL:http://suzukischools.org/events/pillow-concert-zara-lawler-flutist/
CATEGORIES:Pillow Concert Series
ATTACH;FMTTYPE=image/jpeg:http://suzukischools.org/wp-content/uploads/2021/01/Featured-Suzuki-min.jpg
END:VEVENT
BEGIN:VEVENT
DTSTART;TZID=America/New_York:20210328T150000
DTEND;TZID=America/New_York:20210328T160000
DTSTAMP:20260422T065831
CREATED:20210128T135614Z
LAST-MODIFIED:20211005T051905Z
UID:3944-1616943600-1616947200@suzukischools.org
SUMMARY:Pillow Concert: Sumi Tonooka\, Jazz Pianist
DESCRIPTION:
URL:http://suzukischools.org/events/pillow-concert-sumi-tonooka-jazz-pianist/
CATEGORIES:Pillow Concert Series
ATTACH;FMTTYPE=image/jpeg:http://suzukischools.org/wp-content/uploads/2021/01/Featured-Suzuki-min.jpg
END:VEVENT
BEGIN:VEVENT
DTSTART;TZID=America/New_York:20210307T150000
DTEND;TZID=America/New_York:20210307T160000
DTSTAMP:20260422T065831
CREATED:20210128T135019Z
LAST-MODIFIED:20211005T052511Z
UID:3932-1615129200-1615132800@suzukischools.org
SUMMARY:Rami Vamos: Pillow Concert Guitar
DESCRIPTION:
URL:http://suzukischools.org/events/rami-vamos-pillow-concert-guitar/
CATEGORIES:Pillow Concert Series
ATTACH;FMTTYPE=image/jpeg:http://suzukischools.org/wp-content/uploads/2021/01/Featured-Suzuki-min.jpg
END:VEVENT
BEGIN:VEVENT
DTSTART;VALUE=DATE:20210305
DTEND;VALUE=DATE:20210308
DTSTAMP:20260422T065831
CREATED:20210128T133521Z
LAST-MODIFIED:20211005T052523Z
UID:3912-1614902400-1615161599@suzukischools.org
SUMMARY:CT Guitar Festival
DESCRIPTION:A three-day virtual event featuring panels\, masterclasses\, and performances from internationally recognized artists.
URL:http://suzukischools.org/events/ct-guitar-festival/
CATEGORIES:Da Capo Visiting Artist Series,Pillow Concert Series
ATTACH;FMTTYPE=image/jpeg:http://suzukischools.org/wp-content/uploads/2021/01/woman-with-a-guitar-min-800x534-1.jpg
END:VEVENT
BEGIN:VEVENT
DTSTART;TZID=America/New_York:20210124T150000
DTEND;TZID=America/New_York:20210124T160000
DTSTAMP:20260422T065831
CREATED:20210124T133604Z
LAST-MODIFIED:20210909T154225Z
UID:3918-1611500400-1611504000@suzukischools.org
SUMMARY:Pillow Concert: Amy Yang\, piano
DESCRIPTION:Cozy up with your pillow for the second family-friendly concert of our online Pillow Concert Series with pianist\, Amy Yang. \nA “jaw-dropping pianist who steals the show…with effortless finesse” (Washington Post)\, Amy Yang balances an active career as soloist\, chamber musician and pedagogue. Collaborating with leading musicians\, Ms. Yang toured with Patricia Kopatchinskaya\, Tito Muñoz and the Mahler Chamber Orchestra\, and premiered music by Michael Hersch at Cal Performances\, Ojai Music Festival and Aldeburgh Festival. Additional collaborations include performances with Richard Goode\, Anne-Marie McDermott\, Ida and Ani Kavafian\, Miriam Fried\, Roberto Díaz\, Kim Kashkashian\, Joseph Silverstein\, members of Guarneri String Quartet\, the Saint Paul Chamber Orchestra\, Dover Quartet\, Aizuri String Quartet\, Jasper String Quartet\, Third Coast Percussion and A Far Cry. Ms. Yang’s debut on the Philadelphia Chamber Music Series followed solo engagements with the Houston Symphony\, Tuscaloosa Symphony\, Connecticut Virtuosi Chamber Orchestra\, Mansfield Symphony and Orquesta Juvenil Universitaria Eduardo Mata at UNAM. She has performed under the batons of Adam Flatt\, John Giordano\, Thomas Hong\, Mariusz Smolij and others. Ms. Yang has premiered music by Caroline Shaw\, Avner Dorman\, Michael Hersch\, Ezra Laderman\, Paul Wianko and Hua Yang. Festival appearances include Marlboro Music Festival\, Ravinia Festival\, Prussia Cove\, Verbier Academy\, Bravo! Vail\, Chamber Music Northwest\, Chelsea Music Festival\, Caramoor\, Olympic Music Festival\, Music from Angel Fire\, Twickenham Fest\, Salt Bay Chamberfest\, among others. An active recording artist\, her discography includes a solo album (MSR Classics\, 2019)\, chamber albums with violinist Itamar Zorman (BIS Records\, 2019)\, violinist Tessa Lark (First Hand Records\, 2019) and clarinetist José Franch-Ballester (iTinerant Records\, 2011)\, as well as the live Aldeburgh Festival recording of Michael Hersch’s “I hope we get a chance to visit soon” with Tito Muñoz\, members of Mahler Chamber Orchestra\, Kiera Duffy\, Ah Young Hong\, Raphael Schenkel\, Gary Louie\, and Cody Dean (New Focus Records\, 2020). Upcoming releases include music for solo piano by Ezra Laderman (Albany Records)\, and albums with tubist Carol Jantsch\, violinist Danbi Um and cellist Blaise Dejardin. Ms. Yang is a member of the chamber music faculty at Curtis Institute of Music\, program director and piano faculty member of Curtis Summerfest’s Young Artist Summer Program and teaches at the University of Pennsylvania and Haverford College. Winner of the 2018 Musical Fund Society of Philadelphia prize and the Kosciuszko National Chopin Piano Competition\, she is an alumna of Curtis Institute of Music\, Juilliard School and Yale School of Music\, where she received the Parisot Award for Outstanding Pianist and the Alumni Association Prize. She enjoys making line drawings and tracing the mysteries of neuroscience. \n			\n						GET YOUR TICKETS NOW!
URL:http://suzukischools.org/events/pillow-concert-amy-yang-piano/
CATEGORIES:Pillow Concert Series,School Calendar
ATTACH;FMTTYPE=image/jpeg:http://suzukischools.org/wp-content/uploads/2021/01/Featured-Suzuki-min.jpg
END:VEVENT
END:VCALENDAR