BEGIN:VCALENDAR
VERSION:2.0
PRODID:-//Suzuki Music Schools - ECPv6.15.20//NONSGML v1.0//EN
CALSCALE:GREGORIAN
METHOD:PUBLISH
X-ORIGINAL-URL:http://suzukischools.org
X-WR-CALDESC:Events for Suzuki Music Schools
REFRESH-INTERVAL;VALUE=DURATION:PT1H
X-Robots-Tag:noindex
X-PUBLISHED-TTL:PT1H
BEGIN:VTIMEZONE
TZID:America/New_York
BEGIN:DAYLIGHT
TZOFFSETFROM:-0500
TZOFFSETTO:-0400
TZNAME:EDT
DTSTART:20210314T070000
END:DAYLIGHT
BEGIN:STANDARD
TZOFFSETFROM:-0400
TZOFFSETTO:-0500
TZNAME:EST
DTSTART:20211107T060000
END:STANDARD
BEGIN:DAYLIGHT
TZOFFSETFROM:-0500
TZOFFSETTO:-0400
TZNAME:EDT
DTSTART:20220313T070000
END:DAYLIGHT
BEGIN:STANDARD
TZOFFSETFROM:-0400
TZOFFSETTO:-0500
TZNAME:EST
DTSTART:20221106T060000
END:STANDARD
BEGIN:DAYLIGHT
TZOFFSETFROM:-0500
TZOFFSETTO:-0400
TZNAME:EDT
DTSTART:20230312T070000
END:DAYLIGHT
BEGIN:STANDARD
TZOFFSETFROM:-0400
TZOFFSETTO:-0500
TZNAME:EST
DTSTART:20231105T060000
END:STANDARD
END:VTIMEZONE
BEGIN:VEVENT
DTSTART;TZID=America/New_York:20220410T150000
DTEND;TZID=America/New_York:20220410T160000
DTSTAMP:20260423T160053
CREATED:20210909T192629Z
LAST-MODIFIED:20220402T204926Z
UID:6636-1649602800-1649606400@suzukischools.org
SUMMARY:Pillow Concert -- Stephanie and Saar Piano Duo
DESCRIPTION:The Children's Pillow Concerts - \nMelvin Chen				\n				\n					\n		\n					\n		\n				\n						\n					\n			\n						\n				\n					Join us for our informal children's concerts series as we celebrate the amazing talent of renowned local artists. The Suzuki Schools' welcome pianist Melvin Chen to the 25-26 Pillow Concert season!Bring a pillow and sit with the performers. ....suitable for children 4 and older all concerts last around 50 minutes.				\n				\n				\n				\n					\n	\n\n		\n		\n		\n\n		\n\n\n		\n\n\n\n	Tickets\n\n		\n	\n	\n		The numbers below include tickets for this event already in your cart. Clicking "Get Tickets" will allow you to edit any existing attendee information as well as change ticket quantities.	\n\n\n		\n		\n		\n	\n		Tickets are no longer available
URL:http://suzukischools.org/events/pillow-concert-stephanie-and-saar-piano-duo/
LOCATION:Suzuki Music Schools Westport\, 246 Post Rd. East\, Westport\, 06880\, United States
CATEGORIES:Community,Da Capo Visiting Artist Series,Event,Pillow Concert Series,School Calendar
ATTACH;FMTTYPE=image/jpeg:http://suzukischools.org/wp-content/uploads/2021/09/StephSaarDuo.jpeg
END:VEVENT
END:VCALENDAR