BEGIN:VCALENDAR
VERSION:2.0
PRODID:-//Suzuki Music Schools - ECPv6.15.20//NONSGML v1.0//EN
CALSCALE:GREGORIAN
METHOD:PUBLISH
X-ORIGINAL-URL:http://suzukischools.org
X-WR-CALDESC:Events for Suzuki Music Schools
REFRESH-INTERVAL;VALUE=DURATION:PT1H
X-Robots-Tag:noindex
X-PUBLISHED-TTL:PT1H
BEGIN:VTIMEZONE
TZID:America/New_York
BEGIN:DAYLIGHT
TZOFFSETFROM:-0500
TZOFFSETTO:-0400
TZNAME:EDT
DTSTART:20250309T070000
END:DAYLIGHT
BEGIN:STANDARD
TZOFFSETFROM:-0400
TZOFFSETTO:-0500
TZNAME:EST
DTSTART:20251102T060000
END:STANDARD
BEGIN:DAYLIGHT
TZOFFSETFROM:-0500
TZOFFSETTO:-0400
TZNAME:EDT
DTSTART:20260308T070000
END:DAYLIGHT
BEGIN:STANDARD
TZOFFSETFROM:-0400
TZOFFSETTO:-0500
TZNAME:EST
DTSTART:20261101T060000
END:STANDARD
BEGIN:DAYLIGHT
TZOFFSETFROM:-0500
TZOFFSETTO:-0400
TZNAME:EDT
DTSTART:20270314T070000
END:DAYLIGHT
BEGIN:STANDARD
TZOFFSETFROM:-0400
TZOFFSETTO:-0500
TZNAME:EST
DTSTART:20271107T060000
END:STANDARD
END:VTIMEZONE
BEGIN:VEVENT
DTSTART;TZID=America/New_York:20260720T093000
DTEND;TZID=America/New_York:20260723T110000
DTSTAMP:20260421T063715
CREATED:20260217T175834Z
LAST-MODIFIED:20260318T200520Z
UID:19799-1784539800-1784804400@suzukischools.org
SUMMARY:Family Camp (Westport Campus)
DESCRIPTION:Little Musicians Camp				\n				\n				\n				\n									Little Musicians Camp (ages 3–6) is a joyful\, immersive introduction to the world of instruments taught at Suzuki Music Schools. Each day features a live demonstration by Suzuki faculty and students—violin\, cello\, guitar\, piano\, and flute—paired with hands-on exploration\, musical games\, movement\, rhythm play\, stories\, and creative activities.This camp supports musical\, social\, cognitive\, physical\, creative\, and emotional development while giving families a meaningful first step toward future Suzuki and instrumental study. Parents participate alongside children\, strengthening the home environment for musical learning and creating shared experiences that last well beyond the week.Ages 3-6 with parentMonday through Friday 9:30am-11:30amCost: $375								\n				\n				\n				\n									\n					\n						\n									ENROLL
URL:http://suzukischools.org/events/family-camp-2026/
LOCATION:Suzuki Music Schools Westport\, 246 Post Rd. East\, Westport\, 06880\, United States
CATEGORIES:Community,Event,School Calendar,Student Performances
END:VEVENT
BEGIN:VEVENT
DTSTART;TZID=America/New_York:20260727T090000
DTEND;TZID=America/New_York:20260731T140000
DTSTAMP:20260421T063716
CREATED:20251210T203743Z
LAST-MODIFIED:20251218T202733Z
UID:19097-1785142800-1785506400@suzukischools.org
SUMMARY:Chamber Music Camp Week 1
DESCRIPTION:Little Musicians Camp				\n				\n				\n				\n									Little Musicians Camp (ages 3–6) is a joyful\, immersive introduction to the world of instruments taught at Suzuki Music Schools. Each day features a live demonstration by Suzuki faculty and students—violin\, cello\, guitar\, piano\, and flute—paired with hands-on exploration\, musical games\, movement\, rhythm play\, stories\, and creative activities.This camp supports musical\, social\, cognitive\, physical\, creative\, and emotional development while giving families a meaningful first step toward future Suzuki and instrumental study. Parents participate alongside children\, strengthening the home environment for musical learning and creating shared experiences that last well beyond the week.Ages 3-6 with parentMonday through Friday 9:30am-11:30amCost: $375								\n				\n				\n				\n									\n					\n						\n									ENROLL
URL:http://suzukischools.org/events/chamber-music-camp-week-1-2026/
LOCATION:Suzuki Music Schools Westport\, 246 Post Rd. East\, Westport\, 06880\, United States
CATEGORIES:Community,Event,School Calendar,Student Performances
ATTACH;FMTTYPE=image/jpeg:http://suzukischools.org/wp-content/uploads/2023/05/Chamber.jpg
END:VEVENT
BEGIN:VEVENT
DTSTART;TZID=America/New_York:20260803T090000
DTEND;TZID=America/New_York:20260807T140000
DTSTAMP:20260421T063716
CREATED:20251210T203924Z
LAST-MODIFIED:20251218T202718Z
UID:19098-1785747600-1786111200@suzukischools.org
SUMMARY:Chamber Music Camp Week 2
DESCRIPTION:Little Musicians Camp				\n				\n				\n				\n									Little Musicians Camp (ages 3–6) is a joyful\, immersive introduction to the world of instruments taught at Suzuki Music Schools. Each day features a live demonstration by Suzuki faculty and students—violin\, cello\, guitar\, piano\, and flute—paired with hands-on exploration\, musical games\, movement\, rhythm play\, stories\, and creative activities.This camp supports musical\, social\, cognitive\, physical\, creative\, and emotional development while giving families a meaningful first step toward future Suzuki and instrumental study. Parents participate alongside children\, strengthening the home environment for musical learning and creating shared experiences that last well beyond the week.Ages 3-6 with parentMonday through Friday 9:30am-11:30amCost: $375								\n				\n				\n				\n									\n					\n						\n									ENROLL
URL:http://suzukischools.org/events/chamber-music-camp-week-2-2026/
LOCATION:Suzuki Music Schools Westport\, 246 Post Rd. East\, Westport\, 06880\, United States
CATEGORIES:Community,Event,School Calendar,Student Performances
ATTACH;FMTTYPE=image/jpeg:http://suzukischools.org/wp-content/uploads/2023/05/Chamber.jpg
END:VEVENT
BEGIN:VEVENT
DTSTART;TZID=America/New_York:20260825T100000
DTEND;TZID=America/New_York:20260828T113000
DTSTAMP:20260421T063716
CREATED:20260325T213817Z
LAST-MODIFIED:20260330T221644Z
UID:20069-1787652000-1787916600@suzukischools.org
SUMMARY:Family Music Camp (Wakeman Town Farm)
DESCRIPTION:Little Musicians Camp				\n				\n				\n				\n									Little Musicians Camp (ages 3–6) is a joyful\, immersive introduction to the world of instruments taught at Suzuki Music Schools. Each day features a live demonstration by Suzuki faculty and students—violin\, cello\, guitar\, piano\, and flute—paired with hands-on exploration\, musical games\, movement\, rhythm play\, stories\, and creative activities.This camp supports musical\, social\, cognitive\, physical\, creative\, and emotional development while giving families a meaningful first step toward future Suzuki and instrumental study. Parents participate alongside children\, strengthening the home environment for musical learning and creating shared experiences that last well beyond the week.Ages 3-6 with parentMonday through Friday 9:30am-11:30amCost: $375								\n				\n				\n				\n									\n					\n						\n									ENROLL
URL:http://suzukischools.org/events/family-music-camp-wakeman-farm-2026/
LOCATION:Wakeman Town Farm\, 134 Cross Highway\, Westport\, CT\, 06880\, United States
CATEGORIES:Community,Event,School Calendar,Student Performances
END:VEVENT
END:VCALENDAR