BEGIN:VCALENDAR
VERSION:2.0
PRODID:-//Suzuki Music Schools - ECPv6.15.20//NONSGML v1.0//EN
CALSCALE:GREGORIAN
METHOD:PUBLISH
X-ORIGINAL-URL:http://suzukischools.org
X-WR-CALDESC:Events for Suzuki Music Schools
REFRESH-INTERVAL;VALUE=DURATION:PT1H
X-Robots-Tag:noindex
X-PUBLISHED-TTL:PT1H
BEGIN:VTIMEZONE
TZID:America/New_York
BEGIN:DAYLIGHT
TZOFFSETFROM:-0500
TZOFFSETTO:-0400
TZNAME:EDT
DTSTART:20250309T070000
END:DAYLIGHT
BEGIN:STANDARD
TZOFFSETFROM:-0400
TZOFFSETTO:-0500
TZNAME:EST
DTSTART:20251102T060000
END:STANDARD
BEGIN:DAYLIGHT
TZOFFSETFROM:-0500
TZOFFSETTO:-0400
TZNAME:EDT
DTSTART:20260308T070000
END:DAYLIGHT
BEGIN:STANDARD
TZOFFSETFROM:-0400
TZOFFSETTO:-0500
TZNAME:EST
DTSTART:20261101T060000
END:STANDARD
BEGIN:DAYLIGHT
TZOFFSETFROM:-0500
TZOFFSETTO:-0400
TZNAME:EDT
DTSTART:20270314T070000
END:DAYLIGHT
BEGIN:STANDARD
TZOFFSETFROM:-0400
TZOFFSETTO:-0500
TZNAME:EST
DTSTART:20271107T060000
END:STANDARD
END:VTIMEZONE
BEGIN:VEVENT
DTSTART;TZID=America/New_York:20260425T150000
DTEND;TZID=America/New_York:20260425T160000
DTSTAMP:20260425T180827
CREATED:20260127T215418Z
LAST-MODIFIED:20260420T202558Z
UID:19621-1777129200-1777132800@suzukischools.org
SUMMARY:Children's Cookie Concert Series - Vivace
DESCRIPTION:The Children’s Cookie Concert Series – Vivace\n																														 \n\nJoin us for our Children’s Cookie Concert Series as we celebrate the amazing talent of our students\, faculty and alumni.  \nThe Suzuki Schools’ welcome SMS student ensemble Vivace for the final Cookie Concert of the 25-26 year. They will perform music by Taylor Swift\, OneRepublic and more! \nEnjoy an afternoon concert\, lasting about 45 minutes\, with a cookie reception! The performance is suitable for children ages 5 and up. \nPlease note that this concert will be held at the Milford Library.\n\n\n		\n		\n		\n		\n \n\n	Tickets\n		The numbers below include tickets for this event already in your cart. Clicking “Get Tickets” will allow you to edit any existing attendee information as well as change ticket quantities.\n				Free\n					$\n					0.00\n	 0  available\n	Sold Out\n		\n				Suggested Donation\n	In addition to your free ticket\n					$\n					0.00\n	Unlimited\n	\n		Quantity	\n	\n		\n		Quantity:\n	0\n		Total:\n					$\n					0.00\n	Get Tickets
URL:http://suzukischools.org/events/childrens-cookie-concert-series-vivace-sp26/
LOCATION:Milford Public Library\, 57 New Haven Ave.\, Milford\, CT\, 06460\, United States
CATEGORIES:Community,Cookie Concert Series,Event,School Calendar
ATTACH;FMTTYPE=image/jpeg:http://suzukischools.org/wp-content/uploads/2026/01/Vivace-NM-Tour-2025.jpg
END:VEVENT
BEGIN:VEVENT
DTSTART;TZID=America/New_York:20260501T180000
DTEND;TZID=America/New_York:20260501T213000
DTSTAMP:20260425T180827
CREATED:20251213T151958Z
LAST-MODIFIED:20260406T171026Z
UID:18812-1777658400-1777671000@suzukischools.org
SUMMARY:Annual Gala
DESCRIPTION:Annual Gala\nOur 2026 Gala\nServing the Southern Connecticut and wider New York Communities for over 25 years\, we have touched the lives of thousands of children and families with music. We are so grateful for the generations of families who have supported us. Now it’s time to celebrate!\nCome join us at the beautiful Aspetuck Valley Country Club for a special gala event with dinner\, wine and an evening of beautiful music. \nDress\nCocktail Attire \nTicket Information\nIndividual Ticket: $185\nCouple: $325\nTable of 10: $1600 \nTable Sponsor\nFor more information\, please contact Board Vice President Barbara Byrne at barbara.b@suzukischools.org \nAuction Donation\nIf you would like to donate towards our auction\, please fill out this form. Thank you for your generosity! \n\n\n\nAuction – View the Auction Catalogue Here\nIf you are unable to attend the gala but want to bid in the auction\, please email office@suzukischools.org by Friday\, May 1st at 2:00pm EST. Please list the lot number/item description\, your highest bid amount and credit card information* in the email. If any of these are missing\, your bid will be considered void. \nIn the event of winning the bid\, your offer will be final and your credit card will be used to process your bid. If your credit card is not on file at the school\, please make sure we have it prior to bidding. \n*you can also call the Suzuki School to give your credit card information over the phone\nRaffle\nIf you are unable to attend the gala but want to enter our raffle\, you can purchase tickets below (coming soon)! The prizes are: \n\nSummer Semester of six 30 minute Private/Group Lessons ($606 value)\nPrivate Recording Session with Dr. Andrew ($300 value)\nOne Week of any Suzuki Summer Camp 2026 ($640 value)
URL:http://suzukischools.org/events/annual-gala-2026/
LOCATION:Aspetuck Valley Country Club\, 67 Old Redding Road\, Weston\, CT\, 06883\, United States
CATEGORIES:Annual Gala,Community,Event,Fundraising,School Calendar
ATTACH;FMTTYPE=image/png:http://suzukischools.org/wp-content/uploads/2025/12/26-Gala-Event-Cover_GB.png
END:VEVENT
BEGIN:VEVENT
DTSTART;TZID=America/New_York:20260509T143000
DTEND;TZID=America/New_York:20260509T150000
DTSTAMP:20260425T180827
CREATED:20260127T221441Z
LAST-MODIFIED:20260423T154916Z
UID:19638-1778337000-1778338800@suzukischools.org
SUMMARY:SMSO Ice Cream Practice Challenge Party
DESCRIPTION:SMSO Ice Cream Practice Challenge Party\nCome and join the party …. the Ice Cream Practice Challenge Party that is! Bring your practice sheet to earn your ice cream.\nBe sure to come to the Cookie Concert featuring Vivace before the party! Free tickets can be reserved here.\nIf you are able to donate to the party\, please sign up here by Wednesday\, April 22nd. Thank you for your support!
URL:http://suzukischools.org/events/smso-ice-cream-practice-challenge-party-sp26/
LOCATION:Suzuki Music Schools Orange\, 480 Racebrook Road\, Orange\, CT\, 06477\, United States
CATEGORIES:Community,Event,School Calendar
ATTACH;FMTTYPE=image/jpeg:http://suzukischools.org/wp-content/uploads/2022/05/ice-cream-gd948b2b10_640.jpg
END:VEVENT
BEGIN:VEVENT
DTSTART;TZID=America/New_York:20260520T103000
DTEND;TZID=America/New_York:20260520T113000
DTSTAMP:20260425T180827
CREATED:20260304T211708Z
LAST-MODIFIED:20260304T211745Z
UID:19939-1779273000-1779276600@suzukischools.org
SUMMARY:Early Childhood Education Pop Up Class - Milford Library
DESCRIPTION:Early Childhood Education Pop Up Class\nJoin Suzuki Music School of Orange for a pop-up music class at the Milford Public Library!\nThis early childhood music class is geared toward children ages 0-5 as a mixed level class accompanied by their caregiver. Children will take part in singing\, dancing\, & instrument exploration through game-based collaborative learning exercises designed to nurture their physical and cognitive development.  \nThe pop-up class is free\, but pre-registration is required and the classes usually fill FAST! \nCheck out the Early Childhood Music page for our class offerings in Orange.
URL:http://suzukischools.org/events/ece-pop-up-class-milford-library-may-20-26/
LOCATION:Milford Public Library\, 57 New Haven Ave.\, Milford\, CT\, 06460\, United States
CATEGORIES:Community,Event,School Calendar
ATTACH;FMTTYPE=image/jpeg:http://suzukischools.org/wp-content/uploads/2024/09/ECE-Jump-Start-scaled.jpg
END:VEVENT
BEGIN:VEVENT
DTSTART;TZID=America/New_York:20260525T090000
DTEND;TZID=America/New_York:20260525T103000
DTSTAMP:20260425T180827
CREATED:20251103T222105Z
LAST-MODIFIED:20251213T152636Z
UID:18814-1779699600-1779705000@suzukischools.org
SUMMARY:Memorial Day Parade - March Suzuki Style!
DESCRIPTION:The Memorial Day Parade\nIt’s our favorite event of the year! Consistently voted #1 youth group in the parade\, the Suzuki Music Schools float has become a Westport tradition in the Memorial Parade.\nWalk with your child\, wave a flag\, play your instrument and if you play guitar or cello even ride on our truck and perform! … it is a great way to show your support of our armed services. \nCheck your emails for details!
URL:http://suzukischools.org/events/memorial-day-parade-2026/
CATEGORIES:Community,Event,School Calendar,Student Performances
ATTACH;FMTTYPE=image/jpeg:http://suzukischools.org/wp-content/uploads/2022/09/Memorial-Day-05-28-13-M.jpg
END:VEVENT
BEGIN:VEVENT
DTSTART;TZID=America/New_York:20260530T113000
DTEND;TZID=America/New_York:20260530T123000
DTSTAMP:20260425T180827
CREATED:20251103T222504Z
LAST-MODIFIED:20251103T223131Z
UID:18819-1780140600-1780144200@suzukischools.org
SUMMARY:SMSW Ice Cream Practice Challenge Party
DESCRIPTION:SMSW Ice Cream Practice Challenge Party\nCome and join the party …. the Ice Cream Practice Challenge Party that is! Bring your practice sheet to earn your ice cream.\nBe sure to come to the Vivace Group Class Performance that starts at 10:30am before the party!\nIf you are able to donate to the party\, please sign up here by Tuesday\, May 26th. Thank you for your support!
URL:http://suzukischools.org/events/smsw-ice-cream-practice-challenge-party-sp26/
LOCATION:Suzuki Music Schools Westport\, 246 Post Rd. East\, Westport\, 06880\, United States
CATEGORIES:Community,Event,School Calendar
ATTACH;FMTTYPE=image/jpeg:http://suzukischools.org/wp-content/uploads/2022/05/ice-cream-gd948b2b10_640.jpg
END:VEVENT
BEGIN:VEVENT
DTSTART;TZID=America/New_York:20260531T150000
DTEND;TZID=America/New_York:20260531T173000
DTSTAMP:20260425T180827
CREATED:20251103T223533Z
LAST-MODIFIED:20251103T223533Z
UID:18831-1780239600-1780248600@suzukischools.org
SUMMARY:Concerto & Aria Concert
DESCRIPTION:The Concerto and Aria Concert\nJoin us for an exceptional concert of gifted young artists as they perform as soloists with a professional orchestra\nOne of our most exciting concerts of the year\, the Concerto and Aria Concert features an array of soloists at every age. Join us at the Westport Country Playhouse for an afternoon of beautiful music. \nAdmission is free and open to the public. \n3pm – Free Admission \nWestport Country Playhouse\n25 Powers Court\, Westport\, CT 06880
URL:http://suzukischools.org/events/concerto-aria-concert-2026/
LOCATION:Westport Country Playhouse\, 25 Powers Court\, Westoirt\, 06880\, United States
CATEGORIES:Community,Event,School Calendar,Student Performances
ATTACH;FMTTYPE=image/jpeg:http://suzukischools.org/wp-content/uploads/2025/03/Elisavet-Kalogeridis-Concerto-Concert-2024-scaled.jpg
END:VEVENT
BEGIN:VEVENT
DTSTART;TZID=America/New_York:20260622T090000
DTEND;TZID=America/New_York:20260626T150000
DTSTAMP:20260425T180827
CREATED:20251210T203113Z
LAST-MODIFIED:20251218T202356Z
UID:19096-1782118800-1782486000@suzukischools.org
SUMMARY:Summer Camp
DESCRIPTION:Summer Camp\nFor questions about the camp and the suitability of the camp for your child please contact sarah.s@suzukischools.org\nThis 5-day program is for strings\, piano\, guitar and flute students ages 6-12 who have been receiving weekly private instruction for at least a year. Activities include orchestra\, group classes\, African drumming\, music theory\, yoga and other social activities.\n9am – 3pm daily\nFriday ends with a noontime concert\n															\n					\n									Enroll
URL:http://suzukischools.org/events/summer-camp-2026/
LOCATION:Suzuki Music Schools Westport\, 246 Post Rd. East\, Westport\, 06880\, United States
CATEGORIES:Community,Event,School Calendar,Student Performances
ATTACH;FMTTYPE=image/png:http://suzukischools.org/wp-content/uploads/2023/01/Shutterstock_1037982556.png
END:VEVENT
BEGIN:VEVENT
DTSTART;TZID=America/New_York:20260623T093000
DTEND;TZID=America/New_York:20260626T113000
DTSTAMP:20260425T180827
CREATED:20260318T195438Z
LAST-MODIFIED:20260318T195525Z
UID:20040-1782207000-1782473400@suzukischools.org
SUMMARY:Little Musicians Camp (Orange Campus)
DESCRIPTION:Little Musicians Camp\nLittle Musicians Camp (ages 3–6) is a joyful\, immersive introduction to the world of instruments taught at Suzuki Music Schools. Each day features a live demonstration by Suzuki faculty and students—violin\, cello\, guitar\, piano\, and flute—paired with hands-on exploration\, musical games\, movement\, rhythm play\, stories\, and creative activities.\nThis camp supports musical\, social\, cognitive\, physical\, creative\, and emotional development while giving families a meaningful first step toward future Suzuki and instrumental study. Parents participate alongside children\, strengthening the home environment for musical learning and creating shared experiences that last well beyond the week.\nAges 3-6 with parent\nTuesday through Friday 9:30am-11:30am\nCost: $300\n					\n									ENROLL
URL:http://suzukischools.org/events/little-musicians-camp-smso-2026/
LOCATION:Suzuki Music Schools Orange\, 480 Racebrook Road\, Orange\, CT\, 06477\, United States
CATEGORIES:Community,Event,School Calendar,Student Performances
ATTACH;FMTTYPE=image/jpeg:http://suzukischools.org/wp-content/uploads/2022/01/Suzuki-Early-Childhood-5-min.jpg
END:VEVENT
BEGIN:VEVENT
DTSTART;TZID=America/New_York:20260707T100000
DTEND;TZID=America/New_York:20260710T113000
DTSTAMP:20260425T180827
CREATED:20260318T193628Z
LAST-MODIFIED:20260318T201843Z
UID:20033-1783418400-1783683000@suzukischools.org
SUMMARY:Family Camp (Orange Campus)
DESCRIPTION:Family Camp\nFamily Camp is a playful\, theme-based music experience for toddlers and preschoolers and their caregivers to enjoy together. Through singing\, movement\, story time\, crafts\, and simple hands-on musical activities\, families explore each week’s theme in a relaxed\, social setting designed for shared discovery and joy.\nInspired by “Over in the Meadow\,” this session brings animals\, rhythm\, and counting to life through songs\, books\, creative projects\, and interactive musical play. This themed summer experience is separate from our weekly Suzuki Early Childhood Education Program and is designed as a fresh\, engaging introduction for new families while continuing to support those already enrolled. Infant siblings are welcome\, and activities are thoughtfully planned to accommodate a range of ages participating side by side.\nAges 1–4 (with caregiver; infant siblings welcome at no charge)\nTuesday through Friday 10-11:30am\nCost: $255\n					\n									ENROLL
URL:http://suzukischools.org/events/family-camp-smso-2026/
LOCATION:Suzuki Music Schools Orange\, 480 Racebrook Road\, Orange\, CT\, 06477\, United States
CATEGORIES:Community,Event,School Calendar,Student Performances
END:VEVENT
BEGIN:VEVENT
DTSTART;TZID=America/New_York:20260713T093000
DTEND;TZID=America/New_York:20260717T113000
DTSTAMP:20260425T180827
CREATED:20251211T184644Z
LAST-MODIFIED:20260318T200455Z
UID:19100-1783935000-1784287800@suzukischools.org
SUMMARY:Little Musicians Camp (Westport Campus)
DESCRIPTION:Little Musicians Camp\nLittle Musicians Camp (ages 3–6) is a joyful\, immersive introduction to the world of instruments taught at Suzuki Music Schools. Each day features a live demonstration by Suzuki faculty and students—violin\, cello\, guitar\, piano\, and flute—paired with hands-on exploration\, musical games\, movement\, rhythm play\, stories\, and creative activities.\nThis camp supports musical\, social\, cognitive\, physical\, creative\, and emotional development while giving families a meaningful first step toward future Suzuki and instrumental study. Parents participate alongside children\, strengthening the home environment for musical learning and creating shared experiences that last well beyond the week.\nAges 3-6 with parent\nMonday through Friday 9:30am-11:30am\nCost: $375\n\nENROLL
URL:http://suzukischools.org/events/little-musicians-camp-2026/
LOCATION:Suzuki Music Schools Westport\, 246 Post Rd. East\, Westport\, 06880\, United States
CATEGORIES:Community,Event,School Calendar,Student Performances
ATTACH;FMTTYPE=image/jpeg:http://suzukischools.org/wp-content/uploads/2022/01/Suzuki-Early-Childhood-5-min.jpg
END:VEVENT
BEGIN:VEVENT
DTSTART;TZID=America/New_York:20260720T093000
DTEND;TZID=America/New_York:20260723T110000
DTSTAMP:20260425T180827
CREATED:20260217T175834Z
LAST-MODIFIED:20260318T200520Z
UID:19799-1784539800-1784804400@suzukischools.org
SUMMARY:Family Camp (Westport Campus)
DESCRIPTION:Family Camp\nFamily Camp is a playful\, theme-based music experience for toddlers and preschoolers and their caregivers to enjoy together. Through singing\, movement\, story time\, crafts\, and simple hands-on musical activities\, families explore each week’s theme in a relaxed\, social setting designed for shared discovery and joy.\nInspired by “Over in the Meadow\,” this session brings animals\, rhythm\, and counting to life through songs\, books\, creative projects\, and interactive musical play. This themed summer experience is separate from our weekly Suzuki Early Childhood Education Program and is designed as a fresh\, engaging introduction for new families while continuing to support those already enrolled. Infant siblings are welcome\, and activities are thoughtfully planned to accommodate a range of ages participating side by side.\nAges 1–4 (with caregiver; infant siblings welcome at no charge)\nMonday through Thursday 9:30-11am\nCost: $255\n\nENROLL
URL:http://suzukischools.org/events/family-camp-2026/
LOCATION:Suzuki Music Schools Westport\, 246 Post Rd. East\, Westport\, 06880\, United States
CATEGORIES:Community,Event,School Calendar,Student Performances
END:VEVENT
BEGIN:VEVENT
DTSTART;TZID=America/New_York:20260727T090000
DTEND;TZID=America/New_York:20260731T140000
DTSTAMP:20260425T180827
CREATED:20251210T203743Z
LAST-MODIFIED:20251218T202733Z
UID:19097-1785142800-1785506400@suzukischools.org
SUMMARY:Chamber Music Camp Week 1
DESCRIPTION:Chamber Music Camp\nThe Suzuki Schools’ Chamber Music Camp is designed for both intermediate and advanced instrumental students aged 8 through college. Students learn the art of playing with others and perform in a final concert. Basic reading skills required. \nAttend for one or two weeks for a great experience meeting new friends and performing in the community! \nString Players\nBook 3 and above (violin\, viola\, cello\, bass) \nWind & Brass Players:  \nBook 3 and above (flute\, clarinet\, oboe\, horn and trumpet) \nPiano Players: \nBook 6 and above (please consult us in advance to discuss your assignments) \nWeekly Schedule:Monday – Friday from 9am – 2pmFriday & Saturday Concerts\n					\n									Enroll\n					\n																														 \nWeek 1: July 27 – 31\nWeek 2: Aug 3 – 7
URL:http://suzukischools.org/events/chamber-music-camp-week-1-2026/
LOCATION:Suzuki Music Schools Westport\, 246 Post Rd. East\, Westport\, 06880\, United States
CATEGORIES:Community,Event,School Calendar,Student Performances
ATTACH;FMTTYPE=image/jpeg:http://suzukischools.org/wp-content/uploads/2023/05/Chamber.jpg
END:VEVENT
BEGIN:VEVENT
DTSTART;TZID=America/New_York:20260803T090000
DTEND;TZID=America/New_York:20260807T140000
DTSTAMP:20260425T180827
CREATED:20251210T203924Z
LAST-MODIFIED:20251218T202718Z
UID:19098-1785747600-1786111200@suzukischools.org
SUMMARY:Chamber Music Camp Week 2
DESCRIPTION:Chamber Music Camp\nThe Suzuki Schools’ Chamber Music Camp is designed for both intermediate and advanced instrumental students aged 8 through college. Students learn the art of playing with others and perform in a final concert. Basic reading skills required. \nAttend for one or two weeks for a great experience meeting new friends and performing in the community! \nString Players\nBook 3 and above (violin\, viola\, cello\, bass) \nWind & Brass Players:  \nBook 3 and above (flute\, clarinet\, oboe\, horn and trumpet) \nPiano Players: \nBook 6 and above (please consult us in advance to discuss your assignments) \nWeekly Schedule:Monday – Friday from 9am – 2pmFriday & Saturday Concerts\n					\n									Enroll\n					\n																														 \n\nWeek 1: July 27 – 31\nWeek 2: Aug 3 – 7
URL:http://suzukischools.org/events/chamber-music-camp-week-2-2026/
LOCATION:Suzuki Music Schools Westport\, 246 Post Rd. East\, Westport\, 06880\, United States
CATEGORIES:Community,Event,School Calendar,Student Performances
ATTACH;FMTTYPE=image/jpeg:http://suzukischools.org/wp-content/uploads/2023/05/Chamber.jpg
END:VEVENT
BEGIN:VEVENT
DTSTART;TZID=America/New_York:20260825T100000
DTEND;TZID=America/New_York:20260828T113000
DTSTAMP:20260425T180827
CREATED:20260325T213817Z
LAST-MODIFIED:20260330T221644Z
UID:20069-1787652000-1787916600@suzukischools.org
SUMMARY:Family Music Camp (Wakeman Town Farm)
DESCRIPTION:Back-to-School Family Music Camp\nA gentle and joyful music experience for young children and their caregivers during the first days of the school year.\nEach morning includes farm-themed singing\, movement\, movement\, rhythm\, play\, and a simple storytime\, all rooted in Suzuki Early Childhood Education principles and designed to support connection\, confidence\, and musical growth.\nSet in the beauty of the farm\, the experience also includes a short\, guided opportunity to visit the animals or explore the gardens\, along with a simple snack and craft each day.\nAs older siblings return to school\, this program offers younger children a special place of their own—a peaceful and engaging way to begin the school year.\nAges 1–4 (with caregiver; infant siblings welcome at no charge)\nTuesday through Friday 10-11:30am\nCost: $270\nWakeman Town Farm: 134 Cross Highway\, Westport CT\n					\n									ENROLL
URL:http://suzukischools.org/events/family-music-camp-wakeman-farm-2026/
LOCATION:Wakeman Town Farm\, 134 Cross Highway\, Westport\, CT\, 06880\, United States
CATEGORIES:Community,Event,School Calendar,Student Performances
END:VEVENT
END:VCALENDAR