BEGIN:VCALENDAR
VERSION:2.0
PRODID:-//Suzuki Music Schools - ECPv6.15.20//NONSGML v1.0//EN
CALSCALE:GREGORIAN
METHOD:PUBLISH
X-WR-CALNAME:Suzuki Music Schools
X-ORIGINAL-URL:http://suzukischools.org
X-WR-CALDESC:Events for Suzuki Music Schools
REFRESH-INTERVAL;VALUE=DURATION:PT1H
X-Robots-Tag:noindex
X-PUBLISHED-TTL:PT1H
BEGIN:VTIMEZONE
TZID:America/New_York
BEGIN:DAYLIGHT
TZOFFSETFROM:-0500
TZOFFSETTO:-0400
TZNAME:EDT
DTSTART:20230312T070000
END:DAYLIGHT
BEGIN:STANDARD
TZOFFSETFROM:-0400
TZOFFSETTO:-0500
TZNAME:EST
DTSTART:20231105T060000
END:STANDARD
BEGIN:DAYLIGHT
TZOFFSETFROM:-0500
TZOFFSETTO:-0400
TZNAME:EDT
DTSTART:20240310T070000
END:DAYLIGHT
BEGIN:STANDARD
TZOFFSETFROM:-0400
TZOFFSETTO:-0500
TZNAME:EST
DTSTART:20241103T060000
END:STANDARD
BEGIN:DAYLIGHT
TZOFFSETFROM:-0500
TZOFFSETTO:-0400
TZNAME:EDT
DTSTART:20250309T070000
END:DAYLIGHT
BEGIN:STANDARD
TZOFFSETFROM:-0400
TZOFFSETTO:-0500
TZNAME:EST
DTSTART:20251102T060000
END:STANDARD
END:VTIMEZONE
BEGIN:VEVENT
DTSTART;TZID=America/New_York:20241204T180000
DTEND;TZID=America/New_York:20241204T190000
DTSTAMP:20260422T083513
CREATED:20240920T000554Z
LAST-MODIFIED:20241202T204716Z
UID:13682-1733335200-1733338800@suzukischools.org
SUMMARY:SMSO Holiday Performance - Milford Library
DESCRIPTION:Back-to-School Family Music Camp				\n				\n				\n				\n									A gentle and joyful music experience for young children and their caregivers during the first days of the school year.Each morning includes farm-themed singing\, movement\, movement\, rhythm\, play\, and a simple storytime\, all rooted in Suzuki Early Childhood Education principles and designed to support connection\, confidence\, and musical growth.Set in the beauty of the farm\, the experience also includes a short\, guided opportunity to visit the animals or explore the gardens\, along with a simple snack and craft each day.As older siblings return to school\, this program offers younger children a special place of their own—a peaceful and engaging way to begin the school year.Ages 1–4 (with caregiver; infant siblings welcome at no charge)Tuesday through Friday 10-11:30amCost: $270Wakeman Town Farm: 134 Cross Highway\, Westport CT								\n				\n				\n				\n									\n					\n						\n									ENROLL
URL:http://suzukischools.org/events/milford-library-holiday-2024/
LOCATION:Milford Public Library\, 57 New Haven Ave.\, Milford\, CT\, 06460\, United States
CATEGORIES:Community,Event,School Calendar,Student Performances
ATTACH;FMTTYPE=image/jpeg:http://suzukischools.org/wp-content/uploads/2023/10/SMSO-Holiday-Performance-23-scaled.jpg
END:VEVENT
END:VCALENDAR