BEGIN:VCALENDAR
VERSION:2.0
PRODID:-//Suzuki Music Schools - ECPv6.15.20//NONSGML v1.0//EN
CALSCALE:GREGORIAN
METHOD:PUBLISH
X-WR-CALNAME:Suzuki Music Schools
X-ORIGINAL-URL:http://suzukischools.org
X-WR-CALDESC:Events for Suzuki Music Schools
REFRESH-INTERVAL;VALUE=DURATION:PT1H
X-Robots-Tag:noindex
X-PUBLISHED-TTL:PT1H
BEGIN:VTIMEZONE
TZID:America/New_York
BEGIN:DAYLIGHT
TZOFFSETFROM:-0500
TZOFFSETTO:-0400
TZNAME:EDT
DTSTART:20220313T070000
END:DAYLIGHT
BEGIN:STANDARD
TZOFFSETFROM:-0400
TZOFFSETTO:-0500
TZNAME:EST
DTSTART:20221106T060000
END:STANDARD
BEGIN:DAYLIGHT
TZOFFSETFROM:-0500
TZOFFSETTO:-0400
TZNAME:EDT
DTSTART:20230312T070000
END:DAYLIGHT
BEGIN:STANDARD
TZOFFSETFROM:-0400
TZOFFSETTO:-0500
TZNAME:EST
DTSTART:20231105T060000
END:STANDARD
BEGIN:DAYLIGHT
TZOFFSETFROM:-0500
TZOFFSETTO:-0400
TZNAME:EDT
DTSTART:20240310T070000
END:DAYLIGHT
BEGIN:STANDARD
TZOFFSETFROM:-0400
TZOFFSETTO:-0500
TZNAME:EST
DTSTART:20241103T060000
END:STANDARD
END:VTIMEZONE
BEGIN:VEVENT
DTSTART;TZID=America/New_York:20230910T140000
DTEND;TZID=America/New_York:20230910T153000
DTSTAMP:20260423T061746
CREATED:20230908T145540Z
LAST-MODIFIED:20230908T145541Z
UID:13101-1694354400-1694359800@suzukischools.org
SUMMARY:Welcome Back Playdown
DESCRIPTION:Back-to-School Family Music Camp				\n				\n				\n				\n									A gentle and joyful music experience for young children and their caregivers during the first days of the school year.Each morning includes farm-themed singing\, movement\, movement\, rhythm\, play\, and a simple storytime\, all rooted in Suzuki Early Childhood Education principles and designed to support connection\, confidence\, and musical growth.Set in the beauty of the farm\, the experience also includes a short\, guided opportunity to visit the animals or explore the gardens\, along with a simple snack and craft each day.As older siblings return to school\, this program offers younger children a special place of their own—a peaceful and engaging way to begin the school year.Ages 1–4 (with caregiver; infant siblings welcome at no charge)Tuesday through Friday 10-11:30amCost: $270Wakeman Town Farm: 134 Cross Highway\, Westport CT								\n				\n				\n				\n									\n					\n						\n									ENROLL
URL:http://suzukischools.org/events/welcome-back-playdown/
LOCATION:Suzuki Music Schools Orange\, 480 Racebrook Road\, Orange\, CT\, 06477\, United States
CATEGORIES:Community,Event,School Calendar,Student Performances
ATTACH;FMTTYPE=image/jpeg:http://suzukischools.org/wp-content/uploads/2023/09/IMG_3850.jpg
END:VEVENT
BEGIN:VEVENT
DTSTART;TZID=America/New_York:20230916T110000
DTEND;TZID=America/New_York:20230916T180000
DTSTAMP:20260423T061746
CREATED:20230805T155913Z
LAST-MODIFIED:20230911T215251Z
UID:12622-1694862000-1694887200@suzukischools.org
SUMMARY:Annual Golf Fundraiser - Yale Golf Course
DESCRIPTION:Back-to-School Family Music Camp				\n				\n				\n				\n									A gentle and joyful music experience for young children and their caregivers during the first days of the school year.Each morning includes farm-themed singing\, movement\, movement\, rhythm\, play\, and a simple storytime\, all rooted in Suzuki Early Childhood Education principles and designed to support connection\, confidence\, and musical growth.Set in the beauty of the farm\, the experience also includes a short\, guided opportunity to visit the animals or explore the gardens\, along with a simple snack and craft each day.As older siblings return to school\, this program offers younger children a special place of their own—a peaceful and engaging way to begin the school year.Ages 1–4 (with caregiver; infant siblings welcome at no charge)Tuesday through Friday 10-11:30amCost: $270Wakeman Town Farm: 134 Cross Highway\, Westport CT								\n				\n				\n				\n									\n					\n						\n									ENROLL
URL:http://suzukischools.org/events/golf-fundraiser23/
LOCATION:Yale Golf Course\, 200 Conrad Drive\, New Haven\, 06515\, United States
CATEGORIES:Community,Event,School Calendar
ATTACH;FMTTYPE=image/jpeg:http://suzukischools.org/wp-content/uploads/2022/06/Golf.jpg
END:VEVENT
END:VCALENDAR